BEGIN:VCALENDAR
VERSION:2.0
PRODID:-//OLYMPIQUE JUDO VAROIS - ECPv6.9.1//NONSGML v1.0//EN
CALSCALE:GREGORIAN
METHOD:PUBLISH
X-ORIGINAL-URL:https://olympiquejudovarois.com
X-WR-CALDESC:Évènements pour OLYMPIQUE JUDO VAROIS
REFRESH-INTERVAL;VALUE=DURATION:PT1H
X-Robots-Tag:noindex
X-PUBLISHED-TTL:PT1H
BEGIN:VTIMEZONE
TZID:Europe/Paris
BEGIN:DAYLIGHT
TZOFFSETFROM:+0100
TZOFFSETTO:+0200
TZNAME:CEST
DTSTART:20220327T010000
END:DAYLIGHT
BEGIN:STANDARD
TZOFFSETFROM:+0200
TZOFFSETTO:+0100
TZNAME:CET
DTSTART:20221030T010000
END:STANDARD
BEGIN:DAYLIGHT
TZOFFSETFROM:+0100
TZOFFSETTO:+0200
TZNAME:CEST
DTSTART:20230326T010000
END:DAYLIGHT
BEGIN:STANDARD
TZOFFSETFROM:+0200
TZOFFSETTO:+0100
TZNAME:CET
DTSTART:20231029T010000
END:STANDARD
BEGIN:DAYLIGHT
TZOFFSETFROM:+0100
TZOFFSETTO:+0200
TZNAME:CEST
DTSTART:20240331T010000
END:DAYLIGHT
BEGIN:STANDARD
TZOFFSETFROM:+0200
TZOFFSETTO:+0100
TZNAME:CET
DTSTART:20241027T010000
END:STANDARD
END:VTIMEZONE
BEGIN:VEVENT
DTSTART;TZID=Europe/Paris:20240414T080000
DTEND;TZID=Europe/Paris:20240414T170000
DTSTAMP:20260422T060544
CREATED:20240323T110343Z
LAST-MODIFIED:20240407T082108Z
UID:7522-1713081600-1713114000@olympiquejudovarois.com
SUMMARY:CIRCUIT BENJAMINS
DESCRIPTION:Horaires pesées: \nFéminines : 9H00-9H30 \nMasculins -38kg : 10H30-11H00 \nMasculins +38kg : 12H30-13H00
URL:https://olympiquejudovarois.com/calendrier/circuit-benjamins-11/
LOCATION:Palais des sports de Toulon\, 420 Avenue Amiral Aube\, Toulon\, 83000
CATEGORIES:Compétitions
END:VEVENT
BEGIN:VEVENT
DTSTART;TZID=Europe/Paris:20240217T090000
DTEND;TZID=Europe/Paris:20240217T170000
DTSTAMP:20260422T060544
CREATED:20240205T174009Z
LAST-MODIFIED:20240205T174116Z
UID:7486-1708160400-1708189200@olympiquejudovarois.com
SUMMARY:2eme CIRCUIT BENJAMINS
DESCRIPTION:Horaires pesées: \nFéminines : 9H-9H30 \nMasculins -38kg : 10H-10H30 \nMasculins +38kg : 12H00-12H30 \nLE GYMNASE SE TROUVE DERRIERE AQUALAND
URL:https://olympiquejudovarois.com/calendrier/2eme-circuit-benjamins-2/
LOCATION:COMPLEXE SPORTIF DES BOSQUETTES\, AVENUE GASTON REBUFFAT\, SAINT MAXIME\, FRANCE\, 83120
CATEGORIES:Compétitions
END:VEVENT
BEGIN:VEVENT
DTSTART;TZID=Europe/Paris:20231118T080000
DTEND;TZID=Europe/Paris:20231118T170000
DTSTAMP:20260422T060544
CREATED:20231108T173906Z
LAST-MODIFIED:20231108T173906Z
UID:7469-1700294400-1700326800@olympiquejudovarois.com
SUMMARY:Circuit Benjamins
DESCRIPTION:Pesée \nFéminines 13H-13H30 \nMasculins -38kg 14H-14H30 \nMasculins +38 15H30-16H00
URL:https://olympiquejudovarois.com/calendrier/circuit-benjamins-10/
LOCATION:Gymnase de l’Estagnol\, Chemin du Vieux Hyères\, La Crau\, 83260
CATEGORIES:Compétitions
END:VEVENT
BEGIN:VEVENT
DTSTART;TZID=Europe/Paris:20230603T090000
DTEND;TZID=Europe/Paris:20230603T170000
DTSTAMP:20260422T060544
CREATED:20230528T095032Z
LAST-MODIFIED:20230528T095032Z
UID:7445-1685782800-1685811600@olympiquejudovarois.com
SUMMARY:Critérium Régional Benjamins
DESCRIPTION:Horaires des pesées : \nBenjamins -46kgs : 9H00/9H30 – début des combats 10H00 \nBenjamins +46kgs : 11H30/12H00 – début des combats 12H30 \n 
URL:https://olympiquejudovarois.com/calendrier/criterium-regional-benjamins-3/
LOCATION:Palais des Victoires\, 50 Avenue Maurice Chevalier\, Cannes la Boca\, 06150\, France
CATEGORIES:Compétitions
END:VEVENT
BEGIN:VEVENT
DTSTART;TZID=Europe/Paris:20230507T100000
DTEND;TZID=Europe/Paris:20230507T170000
DTSTAMP:20260422T060544
CREATED:20230427T072149Z
LAST-MODIFIED:20230427T072149Z
UID:7410-1683453600-1683478800@olympiquejudovarois.com
SUMMARY:Circuit Benjamins
DESCRIPTION:Pesée : \nMasculins -40kg : 10H30-11H00 \nMasculins +40kg : 12H30-13H00
URL:https://olympiquejudovarois.com/calendrier/circuit-benjamins-9/
LOCATION:Palais des sports de Toulon\, 420 Avenue Amiral Aube\, Toulon\, 83000
CATEGORIES:Compétitions
END:VEVENT
BEGIN:VEVENT
DTSTART;TZID=Europe/Paris:20230312T090000
DTEND;TZID=Europe/Paris:20230312T170000
DTSTAMP:20260422T060544
CREATED:20230227T154422Z
LAST-MODIFIED:20230227T155042Z
UID:7339-1678611600-1678640400@olympiquejudovarois.com
SUMMARY:2eme Circuit Benjamins
DESCRIPTION:Pesées \nMasculins -40kg : 10H00-10H30 \nMasculins +40kg : 12H-12H30
URL:https://olympiquejudovarois.com/calendrier/2eme-circuit-benjamins/
LOCATION:PALAIS DES SPORTS JEAN FRANÇOIS KRAKOWSKI\, PLACE ALPHONSE KARR\, SAINT RAPHAEL\, 83700
CATEGORIES:Compétitions
END:VEVENT
BEGIN:VEVENT
DTSTART;TZID=Europe/Paris:20221119T140000
DTEND;TZID=Europe/Paris:20221119T190000
DTSTAMP:20260422T060544
CREATED:20221107T164210Z
LAST-MODIFIED:20221107T164210Z
UID:7305-1668866400-1668884400@olympiquejudovarois.com
SUMMARY:1er Circuit Benjamins
DESCRIPTION:PESEE MASCULINS -40 14H30 – 15h00 \nPESEE MASCULINS +40 15H30 – 16h00
URL:https://olympiquejudovarois.com/calendrier/1er-circuit-benjamins/
LOCATION:Gymnase de l’Estagnol\, Chemin du Vieux Hyères\, La Crau\, 83260
END:VEVENT
END:VCALENDAR