BEGIN:VCALENDAR
VERSION:2.0
PRODID:-//OLYMPIQUE JUDO VAROIS - ECPv6.9.1//NONSGML v1.0//EN
CALSCALE:GREGORIAN
METHOD:PUBLISH
X-ORIGINAL-URL:https://olympiquejudovarois.com
X-WR-CALDESC:Évènements pour OLYMPIQUE JUDO VAROIS
REFRESH-INTERVAL;VALUE=DURATION:PT1H
X-Robots-Tag:noindex
X-PUBLISHED-TTL:PT1H
BEGIN:VTIMEZONE
TZID:Europe/Paris
BEGIN:DAYLIGHT
TZOFFSETFROM:+0100
TZOFFSETTO:+0200
TZNAME:CEST
DTSTART:20240331T010000
END:DAYLIGHT
BEGIN:STANDARD
TZOFFSETFROM:+0200
TZOFFSETTO:+0100
TZNAME:CET
DTSTART:20241027T010000
END:STANDARD
END:VTIMEZONE
BEGIN:VEVENT
DTSTART;TZID=Europe/Paris:20240211T080000
DTEND;TZID=Europe/Paris:20240211T170000
DTSTAMP:20260421T061408
CREATED:20240205T173359Z
LAST-MODIFIED:20240205T173610Z
UID:7483-1707638400-1707670800@olympiquejudovarois.com
SUMMARY:COUPE REGIONALE PACA MINIMES
DESCRIPTION:Horaires de pesée : \n– 8H/8H30 : Toutes les catégories féminines \nDébut des combats à 9H \n  \n– 11H/11H30 : Masculins -34 à -50kgs \nDébut des combats à partir de 12H \n  \n 
URL:https://olympiquejudovarois.com/calendrier/coupe-regionale-paca-minimes-2/
LOCATION:Gymnase Julien Olive\, Avenue Julien Olive\, Martigues\, 13500\, France
CATEGORIES:Compétitions
END:VEVENT
END:VCALENDAR