BEGIN:VCALENDAR
VERSION:2.0
PRODID:-//OLYMPIQUE JUDO VAROIS - ECPv6.9.1//NONSGML v1.0//EN
CALSCALE:GREGORIAN
METHOD:PUBLISH
X-ORIGINAL-URL:https://olympiquejudovarois.com
X-WR-CALDESC:Évènements pour OLYMPIQUE JUDO VAROIS
REFRESH-INTERVAL;VALUE=DURATION:PT1H
X-Robots-Tag:noindex
X-PUBLISHED-TTL:PT1H
BEGIN:VTIMEZONE
TZID:Europe/Paris
BEGIN:DAYLIGHT
TZOFFSETFROM:+0100
TZOFFSETTO:+0200
TZNAME:CEST
DTSTART:20210328T010000
END:DAYLIGHT
BEGIN:STANDARD
TZOFFSETFROM:+0200
TZOFFSETTO:+0100
TZNAME:CET
DTSTART:20211031T010000
END:STANDARD
END:VTIMEZONE
BEGIN:VEVENT
DTSTART;TZID=Europe/Paris:20211204T133000
DTEND;TZID=Europe/Paris:20211204T190000
DTSTAMP:20260422T205559
CREATED:20211122T094247Z
LAST-MODIFIED:20211203T095630Z
UID:7125-1638624600-1638644400@olympiquejudovarois.com
SUMMARY:Circuit Benjamins
DESCRIPTION:Sur Sélection \nPESEE MASCULINS -40kg 14H30 – 15h00 \nPESEE MASCULINS +40kg 15H30 – 16h00
URL:https://olympiquejudovarois.com/calendrier/circuit-benjamins-6/
LOCATION:Gymnase Pierre Gaudin\, Avenue Pierre de Coubertin\, Le Luc en Provence\, 83340\, France
CATEGORIES:Compétitions
END:VEVENT
END:VCALENDAR