BEGIN:VCALENDAR
VERSION:2.0
PRODID:-//OLYMPIQUE JUDO VAROIS - ECPv6.9.1//NONSGML v1.0//EN
CALSCALE:GREGORIAN
METHOD:PUBLISH
X-WR-CALNAME:OLYMPIQUE JUDO VAROIS
X-ORIGINAL-URL:https://olympiquejudovarois.com
X-WR-CALDESC:Évènements pour OLYMPIQUE JUDO VAROIS
REFRESH-INTERVAL;VALUE=DURATION:PT1H
X-Robots-Tag:noindex
X-PUBLISHED-TTL:PT1H
BEGIN:VTIMEZONE
TZID:Europe/Paris
BEGIN:DAYLIGHT
TZOFFSETFROM:+0100
TZOFFSETTO:+0200
TZNAME:CEST
DTSTART:20230326T010000
END:DAYLIGHT
BEGIN:STANDARD
TZOFFSETFROM:+0200
TZOFFSETTO:+0100
TZNAME:CET
DTSTART:20231029T010000
END:STANDARD
END:VTIMEZONE
BEGIN:VEVENT
DTSTART;TZID=Europe/Paris:20231119T080000
DTEND;TZID=Europe/Paris:20231119T170000
DTSTAMP:20260421T090306
CREATED:20231108T174147Z
LAST-MODIFIED:20231108T174724Z
UID:7471-1700380800-1700413200@olympiquejudovarois.com
SUMMARY:Coupe Départementale Minimes
DESCRIPTION:Pesée \nFéminines 9H00-9H30 \nMasculins -34 à -50 10H00-10H30 \nMasculins -55 à +73 11H00-11H30
URL:https://olympiquejudovarois.com/calendrier/coupe-departementale-minimes-5/
LOCATION:Gymnase de l’Estagnol\, Chemin du Vieux Hyères\, La Crau\, 83260
CATEGORIES:Compétitions
END:VEVENT
END:VCALENDAR