BEGIN:VCALENDAR
VERSION:2.0
PRODID:-//OLYMPIQUE JUDO VAROIS - ECPv6.9.1//NONSGML v1.0//EN
CALSCALE:GREGORIAN
METHOD:PUBLISH
X-WR-CALNAME:OLYMPIQUE JUDO VAROIS
X-ORIGINAL-URL:https://olympiquejudovarois.com
X-WR-CALDESC:Évènements pour OLYMPIQUE JUDO VAROIS
REFRESH-INTERVAL;VALUE=DURATION:PT1H
X-Robots-Tag:noindex
X-PUBLISHED-TTL:PT1H
BEGIN:VTIMEZONE
TZID:Europe/Paris
BEGIN:DAYLIGHT
TZOFFSETFROM:+0100
TZOFFSETTO:+0200
TZNAME:CEST
DTSTART:20230326T010000
END:DAYLIGHT
BEGIN:STANDARD
TZOFFSETFROM:+0200
TZOFFSETTO:+0100
TZNAME:CET
DTSTART:20231029T010000
END:STANDARD
END:VTIMEZONE
BEGIN:VEVENT
DTSTART;TZID=Europe/Paris:20231022T090000
DTEND;TZID=Europe/Paris:20231022T170000
DTSTAMP:20260421T103259
CREATED:20231002T142349Z
LAST-MODIFIED:20231002T142349Z
UID:7460-1697965200-1697994000@olympiquejudovarois.com
SUMMARY:Circuit Minimes Gap
DESCRIPTION:Groupes morphologiques (10%) \nPoules + Tableaux sans repêchage \nHoraires : \nMASCULINS – 44 KG : 9h00 – 9h30 \nMASCULINS – 52 KG : 11h00 – 11h30 \nMASCULINS +52 KG : 13h00 – 13h30 \nFEMININES : 14h30 – 15h00
URL:https://olympiquejudovarois.com/calendrier/circuit-minimes-gap-2/
LOCATION:Gymnase Jean Chritophe Lafaille\, Avenue Commandant Dumont\, Gap\, 05000
CATEGORIES:Compétitions
END:VEVENT
END:VCALENDAR