BEGIN:VCALENDAR
VERSION:2.0
PRODID:-//OLYMPIQUE JUDO VAROIS - ECPv6.9.1//NONSGML v1.0//EN
CALSCALE:GREGORIAN
METHOD:PUBLISH
X-ORIGINAL-URL:https://olympiquejudovarois.com
X-WR-CALDESC:Évènements pour OLYMPIQUE JUDO VAROIS
REFRESH-INTERVAL;VALUE=DURATION:PT1H
X-Robots-Tag:noindex
X-PUBLISHED-TTL:PT1H
BEGIN:VTIMEZONE
TZID:Europe/Paris
BEGIN:DAYLIGHT
TZOFFSETFROM:+0100
TZOFFSETTO:+0200
TZNAME:CEST
DTSTART:20230326T010000
END:DAYLIGHT
BEGIN:STANDARD
TZOFFSETFROM:+0200
TZOFFSETTO:+0100
TZNAME:CET
DTSTART:20231029T010000
END:STANDARD
END:VTIMEZONE
BEGIN:VEVENT
DTSTART;TZID=Europe/Paris:20230507T100000
DTEND;TZID=Europe/Paris:20230507T170000
DTSTAMP:20260421T182752
CREATED:20230427T072149Z
LAST-MODIFIED:20230427T072149Z
UID:7410-1683453600-1683478800@olympiquejudovarois.com
SUMMARY:Circuit Benjamins
DESCRIPTION:Pesée : \nMasculins -40kg : 10H30-11H00 \nMasculins +40kg : 12H30-13H00
URL:https://olympiquejudovarois.com/calendrier/circuit-benjamins-9/
LOCATION:Palais des sports de Toulon\, 420 Avenue Amiral Aube\, Toulon\, 83000
CATEGORIES:Compétitions
END:VEVENT
END:VCALENDAR