BEGIN:VCALENDAR
VERSION:2.0
PRODID:-//OLYMPIQUE JUDO VAROIS - ECPv6.9.1//NONSGML v1.0//EN
CALSCALE:GREGORIAN
METHOD:PUBLISH
X-WR-CALNAME:OLYMPIQUE JUDO VAROIS
X-ORIGINAL-URL:https://olympiquejudovarois.com
X-WR-CALDESC:Évènements pour OLYMPIQUE JUDO VAROIS
REFRESH-INTERVAL;VALUE=DURATION:PT1H
X-Robots-Tag:noindex
X-PUBLISHED-TTL:PT1H
BEGIN:VTIMEZONE
TZID:Europe/Paris
BEGIN:DAYLIGHT
TZOFFSETFROM:+0100
TZOFFSETTO:+0200
TZNAME:CEST
DTSTART:20160327T010000
END:DAYLIGHT
BEGIN:STANDARD
TZOFFSETFROM:+0200
TZOFFSETTO:+0100
TZNAME:CET
DTSTART:20161030T010000
END:STANDARD
BEGIN:DAYLIGHT
TZOFFSETFROM:+0100
TZOFFSETTO:+0200
TZNAME:CEST
DTSTART:20170326T010000
END:DAYLIGHT
BEGIN:STANDARD
TZOFFSETFROM:+0200
TZOFFSETTO:+0100
TZNAME:CET
DTSTART:20171029T010000
END:STANDARD
BEGIN:DAYLIGHT
TZOFFSETFROM:+0100
TZOFFSETTO:+0200
TZNAME:CEST
DTSTART:20180325T010000
END:DAYLIGHT
BEGIN:STANDARD
TZOFFSETFROM:+0200
TZOFFSETTO:+0100
TZNAME:CET
DTSTART:20181028T010000
END:STANDARD
END:VTIMEZONE
BEGIN:VEVENT
DTSTART;TZID=Europe/Paris:20180602T080000
DTEND;TZID=Europe/Paris:20180603T170000
DTSTAMP:20260422T123547
CREATED:20180522T130948Z
LAST-MODIFIED:20180522T130948Z
UID:6594-1527926400-1528045200@olympiquejudovarois.com
SUMMARY:Tournoi des 5 continents - Toulouse
DESCRIPTION:Samedi \nCadettes 13h30 – 14h30 \n  \nCadets  17h – 18h \nDimanche \nMinimes Filles : 9h – 9h15 \nMinimes Garçons : 12h – 13h.
URL:https://olympiquejudovarois.com/calendrier/tournoi-des-5-continents-toulouse/
LOCATION:Salle d’athlétisme\, 3 avenue du stade\, Fronton\, 31620
END:VEVENT
BEGIN:VEVENT
DTSTART;TZID=Europe/Paris:20180520T110000
DTEND;TZID=Europe/Paris:20180520T190000
DTSTAMP:20260422T123547
CREATED:20180503T155255Z
LAST-MODIFIED:20180519T152946Z
UID:6583-1526814000-1526842800@olympiquejudovarois.com
SUMMARY:Sélection France 2eme Division et Espoirs Cadets
DESCRIPTION:Pesée \n\n11h00 – 11h30 : Pesée des féminines\n12h30 – 13h00 : Pesée des – 60 kg\n14h30 – 15h00 : +60 kg\n\n 
URL:https://olympiquejudovarois.com/calendrier/selection-france-2eme-division-et-espoirs-cadets/
LOCATION:Gymnase plaine sportive\, Chemin de Lucette\, Sorgues
CATEGORIES:Compétitions
END:VEVENT
BEGIN:VEVENT
DTSTART;TZID=Europe/Paris:20180325T090000
DTEND;TZID=Europe/Paris:20180325T170000
DTSTAMP:20260422T123547
CREATED:20180228T103033Z
LAST-MODIFIED:20180323T095129Z
UID:6537-1521968400-1521997200@olympiquejudovarois.com
SUMMARY:Circuit cadets 2eme division - Mandelieu
DESCRIPTION:Pesée \nmasculins -55kg: De 9 heures à 9 heures 30 \nmasculins -66kg: De 11 heures 30 à 12 heures \nmasculins +66kg et féminines: De 13 heures à 13 heures 30
URL:https://olympiquejudovarois.com/calendrier/circuit-cadets-2eme-division-mandelieu/
LOCATION:salle olympie\, 126 boulevard des anciens combattants\, Mandelieu
END:VEVENT
BEGIN:VEVENT
DTSTART;TZID=Europe/Paris:20180310T090000
DTEND;TZID=Europe/Paris:20180310T170000
DTSTAMP:20260422T123547
CREATED:20180228T093604Z
LAST-MODIFIED:20180228T103915Z
UID:6529-1520672400-1520701200@olympiquejudovarois.com
SUMMARY:Demi Finale Cadets - Meze
DESCRIPTION:Pesée de 9 heures à 9 heures 30
URL:https://olympiquejudovarois.com/calendrier/demi-finale-cadets-2/
LOCATION:Salle Bernard Jeu\, Rue de la méditérranée \, Meze\, 34140
CATEGORIES:Compétitions
END:VEVENT
BEGIN:VEVENT
DTSTART;TZID=Europe/Paris:20180224T080000
DTEND;TZID=Europe/Paris:20180224T170000
DTSTAMP:20260422T123547
CREATED:20180203T095628Z
LAST-MODIFIED:20180203T095628Z
UID:6524-1519459200-1519491600@olympiquejudovarois.com
SUMMARY:1ere Demi Finale Cadets
DESCRIPTION:Pesée \nDe 9 heurs à 9 heures 30 : -60kg \nDe 11 heures à 11 heures 30 : -66kg et au dessus \nDe 13 heures à 13 heures 30 : toutes les féminines
URL:https://olympiquejudovarois.com/calendrier/1ere-demi-finale-cadets/
LOCATION:Gymnase de l’Estagnol\, Chemin du Vieux Hyères\, La Crau\, 83260
CATEGORIES:Compétitions
END:VEVENT
BEGIN:VEVENT
DTSTART;TZID=Europe/Paris:20180204T080000
DTEND;TZID=Europe/Paris:20180204T170000
DTSTAMP:20260422T123547
CREATED:20180203T092337Z
LAST-MODIFIED:20180203T092337Z
UID:6515-1517731200-1517763600@olympiquejudovarois.com
SUMMARY:Tournoi National Cadets 1ere année
DESCRIPTION:Pesée de 9 heures 30 à 10 heures
URL:https://olympiquejudovarois.com/calendrier/tournoi-national-cadets-1ere-annee/
LOCATION:Maison du Judo\, Chemin Cassaing\, Toulouse\, 31500\, France
CATEGORIES:Tournois
END:VEVENT
BEGIN:VEVENT
DTSTART;TZID=Europe/Paris:20180120T080000
DTEND;TZID=Europe/Paris:20180120T170000
DTSTAMP:20260422T123547
CREATED:20180109T095818Z
LAST-MODIFIED:20180109T101254Z
UID:6426-1516435200-1516467600@olympiquejudovarois.com
SUMMARY:Tournoi De France
DESCRIPTION:De 7H – 8H\nPesée des -40 kg -44 kg -48 kg / -46kg -50 kg \nDe 9H30 à 10H30\nPesée des -55 kg -60 kg / -52 kg  -57 kg \nDe 12H30 à 13H30\nPesée des -66kg -73kg / -63kg -70kg \nDe 14H30 à 15H30\nPesée des +70 kg -81 kg -90 kg +90 kg
URL:https://olympiquejudovarois.com/calendrier/tournoi-de-france/
LOCATION:Palais des Victoires\, 50 Avenue Maurice Chevalier\, Cannes la Boca\, 06150\, France
END:VEVENT
BEGIN:VEVENT
DTSTART;TZID=Europe/Paris:20180114T090000
DTEND;TZID=Europe/Paris:20180114T190000
DTSTAMP:20260422T123547
CREATED:20180109T085514Z
LAST-MODIFIED:20180109T085514Z
UID:6420-1515920400-1515956400@olympiquejudovarois.com
SUMMARY:Coupe Départementale Cadets - Cadettes
DESCRIPTION:Pesée : 30 minutes \nToutes les féminines : 9 heures \nMasculin -46 à -66 : 10 heures \nMasculin -73 à +90 : 13 heures \n 
URL:https://olympiquejudovarois.com/calendrier/coupe-departementale-cadets-cadettes/
LOCATION:Gymnase de l’Estagnol\, Chemin du Vieux Hyères\, La Crau\, 83260
CATEGORIES:Compétitions
END:VEVENT
BEGIN:VEVENT
DTSTART;TZID=Europe/Paris:20171223T080000
DTEND;TZID=Europe/Paris:20171223T170000
DTSTAMP:20260422T123547
CREATED:20171204T105055Z
LAST-MODIFIED:20171221T091341Z
UID:6407-1514016000-1514048400@olympiquejudovarois.com
SUMMARY:Tournoi National Minimes Excellence
DESCRIPTION:Pesée\nDe 8 h 30 à 9 heures : Toutes les filles\n\nDe 10 heures à 10 h 30 : Minimes garçons -34kg et-38kg\n\nDe 13 heures à 13 h 30: Minimes garçons -42kg et -46kg.\n\nDe 14 h 30 à 15 heures : Minimes garçons-50kg\, -55kg\, -60kg\, -66kg\, -73kg\, +73kg.
URL:https://olympiquejudovarois.com/calendrier/tournoi-national-minimes-excellence/
LOCATION:Maison du Judo\, Chemin Cassaing\, Toulouse\, 31500\, France
END:VEVENT
BEGIN:VEVENT
DTSTART;TZID=Europe/Paris:20171210T080000
DTEND;TZID=Europe/Paris:20171210T170000
DTSTAMP:20260422T123547
CREATED:20171204T103819Z
LAST-MODIFIED:20171204T103819Z
UID:6405-1512892800-1512925200@olympiquejudovarois.com
SUMMARY:Coupe de France Individuelle Minimes
DESCRIPTION:Pesée de 7 heures à 8 heures
URL:https://olympiquejudovarois.com/calendrier/coupe-de-france-individuelle-minimes-5/
LOCATION:Vélodrome de Saint Quentin en Yvelines\, 1 rue Laurent Fignon\, Montigny le Bretonneux\, 78100
END:VEVENT
BEGIN:VEVENT
DTSTART;TZID=Europe/Paris:20171119T090000
DTEND;TZID=Europe/Paris:20171119T170000
DTSTAMP:20260422T123547
CREATED:20171101T141707Z
LAST-MODIFIED:20171101T141707Z
UID:6377-1511082000-1511110800@olympiquejudovarois.com
SUMMARY:Circuit régional Minimes
DESCRIPTION:Pesée \nDe 9 heures à 9 heures 30: -42 kg \nDe 11 heures à 11 heures 30: -50 kg \nDe 13 heures à 13 heures 30: +50 kg \nDe 14 heures 30 à 15 heures : toutes les féminines
URL:https://olympiquejudovarois.com/calendrier/circuit-regional-minimes/
LOCATION:Gymnase La Martine\, 51 Chemin de la Martine\, Marseille\, 13015
END:VEVENT
BEGIN:VEVENT
DTSTART;TZID=Europe/Paris:20171105T080000
DTEND;TZID=Europe/Paris:20171105T183000
DTSTAMP:20260422T123547
CREATED:20171101T125508Z
LAST-MODIFIED:20171101T125552Z
UID:6360-1509868800-1509906600@olympiquejudovarois.com
SUMMARY:Tournoi Drôme Ardèche Minimes
DESCRIPTION:PESEE \nDe 9h00 à 9h30 : toutes les féminines et des masculins de -34kg à -38 kg\n10h15 : début des combats \nDe 10h30 à 11h00 : Minimes garçons plus de 38 kg :\no 11:45 : début des combats : \nPAS DE TOLERANCE DE POIDS
URL:https://olympiquejudovarois.com/calendrier/tournoi-drome-ardeche-minimes/
LOCATION:Halle des sports\, 9 rue Jean Macé\, Portes Les Valence\, 26800
CATEGORIES:Tournois
END:VEVENT
BEGIN:VEVENT
DTSTART;TZID=Europe/Paris:20171008T090000
DTEND;TZID=Europe/Paris:20171008T190000
DTSTAMP:20260422T123547
CREATED:20170912T095140Z
LAST-MODIFIED:20170912T095140Z
UID:6312-1507453200-1507489200@olympiquejudovarois.com
SUMMARY:Coupe Régionale Minimes PACA
DESCRIPTION:Pesée \nDe 9h à 9h30 : -55kg \nDe 12h30 à 13h : +55kg \nDe 14h à 14h30 : Toutes les féminines
URL:https://olympiquejudovarois.com/calendrier/coupe-regionale-minimes-paca-2/
LOCATION:Gymnase de l’Estagnol\, Chemin du Vieux Hyères\, La Crau\, 83260
CATEGORIES:Compétitions
END:VEVENT
BEGIN:VEVENT
DTSTART;TZID=Europe/Paris:20170528T090000
DTEND;TZID=Europe/Paris:20170528T170000
DTSTAMP:20260422T123547
CREATED:20170427T162507Z
LAST-MODIFIED:20170427T162507Z
UID:6022-1495962000-1495990800@olympiquejudovarois.com
SUMMARY:Circuit Minimes
DESCRIPTION:Pesée\n9h-9h30: Adrien et Maksim -42\n10h30-11h: Bastien- Maxime – Nicolas -50 \n14h30-15h: Manon – Lorna
URL:https://olympiquejudovarois.com/calendrier/circuit-minimes-3/
LOCATION:Gymnase Maurice Piot\, 344 Avenue Rhin Danube\, Vitrolles\, 13127\, France
CATEGORIES:Compétitions
END:VEVENT
BEGIN:VEVENT
DTSTART;TZID=Europe/Paris:20170422T090000
DTEND;TZID=Europe/Paris:20170422T170000
DTSTAMP:20260422T123547
CREATED:20170227T165513Z
LAST-MODIFIED:20170410T154939Z
UID:5944-1492851600-1492880400@olympiquejudovarois.com
SUMMARY:Département Minimes
DESCRIPTION:Pesée \nDe 9 heures à 9 heures 30 : Lorna et Manon\n \nDe 10 heures à 10 heures 30 : Adrien – Bastien – Maksim – Maxime \nDe 12 heures à 12 heures 30 : Nicolas
URL:https://olympiquejudovarois.com/calendrier/ligue-minimes/
LOCATION:Gymnase Pierre Gaudin\, Avenue Pierre de Coubertin\, Le Luc en Provence\, 83340\, France
CATEGORIES:Compétitions
END:VEVENT
BEGIN:VEVENT
DTSTART;TZID=Europe/Paris:20170409T080000
DTEND;TZID=Europe/Paris:20170409T170000
DTSTAMP:20260422T123547
CREATED:20170320T081820Z
LAST-MODIFIED:20170324T103909Z
UID:5978-1491724800-1491757200@olympiquejudovarois.com
SUMMARY:Circuit de printemps Minimes
DESCRIPTION:De 8h30 à 9h00:  Manon – Lorna \nDe 10h30 à 11h : Maksim – Adrien \nDe 13h30 à 14 heures : Bastien – Maxime – Nicolas \n 
URL:https://olympiquejudovarois.com/calendrier/circuit-de-printemps-minimes/
LOCATION:Salle omnisport de l’Esterel\, Boulevard de l'Aspé\, Saint-Raphaël\, 83
CATEGORIES:Compétitions
END:VEVENT
BEGIN:VEVENT
DTSTART;TZID=Europe/Paris:20170319T090000
DTEND;TZID=Europe/Paris:20170319T170000
DTSTAMP:20260422T123547
CREATED:20170227T161341Z
LAST-MODIFIED:20170227T163301Z
UID:5936-1489914000-1489942800@olympiquejudovarois.com
SUMMARY:Circuit Minimes
DESCRIPTION:Pesée \nDe 9 heures à 9 heures 30 : Maksim \nDe 11 heures à 11 heures 30 : Bastien – Nicolas – Maxime
URL:https://olympiquejudovarois.com/calendrier/circuit-minimes-2/
LOCATION:Gymnase M. Candau\, Avenue Rhin et Danube\, Vence\, 06140
CATEGORIES:Compétitions
END:VEVENT
BEGIN:VEVENT
DTSTART;TZID=Europe/Paris:20170115T090000
DTEND;TZID=Europe/Paris:20170115T170000
DTSTAMP:20260422T123547
CREATED:20170103T153231Z
LAST-MODIFIED:20170103T153536Z
UID:5789-1484470800-1484499600@olympiquejudovarois.com
SUMMARY:Circuit Minimes
DESCRIPTION:Pesée: \n9h00 – 9h30: Masculins -42 kgs \n11h00 – 11h30: Masculins -50 kgs \n13h00 – 13h30: Masculins +50 kgs \n14h00 – 14h30: Toutes les Féminines
URL:https://olympiquejudovarois.com/calendrier/circuit-minimes/
LOCATION:Gymnase Michaël Guigou\, Gymnase Michaël Guigou - Boulevard Maréchal Joffre\, APT\, 84400
CATEGORIES:Compétitions
END:VEVENT
BEGIN:VEVENT
DTSTART;TZID=Europe/Paris:20161009T093000
DTEND;TZID=Europe/Paris:20161009T180000
DTSTAMP:20260422T123547
CREATED:20160923T091845Z
LAST-MODIFIED:20160923T160218Z
UID:5659-1476005400-1476036000@olympiquejudovarois.com
SUMMARY:Coupe Régionale Minimes PACA
DESCRIPTION:Pesée  \nDe 9 heures 30 à 10 heures : Jusqu’à -46kg \nDe 12 heures 30 à 13 heures : + 46 Kg \nDe 14 heures  à 14 heures 30 : toutes les Féminines
URL:https://olympiquejudovarois.com/calendrier/coupe-regionale-minimes-paca/
LOCATION:Gymnase Jean Garcin\, Route de Velleron\, Le Thor\, 84250
END:VEVENT
BEGIN:VEVENT
DTSTART;TZID=Europe/Paris:20160508T090000
DTEND;TZID=Europe/Paris:20160508T180000
DTSTAMP:20260422T123547
CREATED:20160503T080749Z
LAST-MODIFIED:20160503T080749Z
UID:5569-1462698000-1462730400@olympiquejudovarois.com
SUMMARY:Circuit Minimes - Sisteron
DESCRIPTION:Pesée 30 minutes \nGarçons -42 kg : de 9 heures à 9 heures 30 \nGarçons de 42 kg à -50 kg : de 11 heures à 11 heures 30 \nGarçons +50 kg : de 13 heures à 13heures 30 \nFéminines : de 14 heures 30 à 15 heures \n 
URL:https://olympiquejudovarois.com/calendrier/circuit-minimes-sisteron/
LOCATION:Gymane Base de Loisirs des marres\, Sisteron\, 04200\, France
CATEGORIES:Evènements
END:VEVENT
BEGIN:VEVENT
DTSTART;TZID=Europe/Paris:20160417T090000
DTEND;TZID=Europe/Paris:20160417T170000
DTSTAMP:20260422T123547
CREATED:20160331T133448Z
LAST-MODIFIED:20160331T133448Z
UID:5524-1460883600-1460912400@olympiquejudovarois.com
SUMMARY:Circuit Minimes - Saint Raphaël
DESCRIPTION:Pesée 30 minutes \nDe 9 heures à 9 heures 30 : -42 kg \nDe 11 heures à 11 heures 30 : de 42 kg à -50 kg \nDe 13 heures à 13 heures 30 : +50 \nDe 14h30 à 15 heures : toutes les féminines \n 
URL:https://olympiquejudovarois.com/calendrier/circuit-minimes-saint-raphael/
LOCATION:Salle omnisport de l’Esterel\, Boulevard de l'Aspé\, Saint-Raphaël\, 83
CATEGORIES:Evènements
END:VEVENT
BEGIN:VEVENT
DTSTART;TZID=Europe/Paris:20160319T080000
DTEND;TZID=Europe/Paris:20160319T190000
DTSTAMP:20260422T123547
CREATED:20160309T093758Z
LAST-MODIFIED:20160314T095314Z
UID:5331-1458374400-1458414000@olympiquejudovarois.com
SUMMARY:Tournoi International Minimes Saint-Cyprien
DESCRIPTION:Pesée : Vendredi 18 mars à partir de 17 heures \nSamedi : Compétition \nDébut de la compétition à 14 heures : garçons de -42 à +73 \nDimanche : entrainement judo avec toutes les délégations de 10 heures à 12 heures \n  \n 
URL:https://olympiquejudovarois.com/calendrier/tournoi-international-minimes-saint-cyprien/
LOCATION:Grand stade les Capellans\, Rue Verdi\, Saint-Cyprien\, 66750
CATEGORIES:Evènements
END:VEVENT
BEGIN:VEVENT
DTSTART;TZID=Europe/Paris:20160306T090000
DTEND;TZID=Europe/Paris:20160306T190000
DTSTAMP:20260422T123547
CREATED:20160223T152229Z
LAST-MODIFIED:20160303T150008Z
UID:5218-1457254800-1457290800@olympiquejudovarois.com
SUMMARY:Coupe départementale Minimes
DESCRIPTION:Pesée 30 min.\nToutes les féminines : 9 heures\nMasculins -34 kg ; -38 kg  -42 kg -46 kg : 10 heures\nMasculins -50 kg ; -55 kg ;-60 kg ;  -66 kg ;  -73 kg ; +73 kg : 12 heures
URL:https://olympiquejudovarois.com/calendrier/coupe-departementale-minimes/
LOCATION:Gymnase Pierre Gaudin\, Avenue Pierre de Coubertin\, Le Luc en Provence\, 83340\, France
CATEGORIES:Evènements
END:VEVENT
BEGIN:VEVENT
DTSTART;TZID=Europe/Paris:20160227T083000
DTEND;TZID=Europe/Paris:20160228T170000
DTSTAMP:20260422T123547
CREATED:20160203T135524Z
LAST-MODIFIED:20160203T140518Z
UID:5145-1456561800-1456678800@olympiquejudovarois.com
SUMMARY:JUDO TURIN CUP 2016
DESCRIPTION:Pesée le samedi 27 février \nCadets :  de 8h30 à 9h00 \nCadettes :  de 11h30 à 12h00 \nMinimes filles :  de 12h30 à 13h00 \nMinimes garçons : de 13h30 à 14h00 \n  \nPesée le dimanche 28 février \nAdrien\, Charlotte et Manon de 8h30 à 9h00 \nJustine\, Dylan et Robin de 9h00 à 9h30
URL:https://olympiquejudovarois.com/calendrier/judo-turin-cup-2016/
LOCATION:Palazzetto le Cupole\, Via Artom 111\, Turin\, Italie
CATEGORIES:Tournois
END:VEVENT
BEGIN:VEVENT
DTSTART;TZID=Europe/Paris:20160116T090000
DTEND;TZID=Europe/Paris:20160116T190000
DTSTAMP:20260422T123547
CREATED:20160102T162903Z
LAST-MODIFIED:20160115T205603Z
UID:4843-1452934800-1452970800@olympiquejudovarois.com
SUMMARY:1er Tournoi Minimes de La Crau
DESCRIPTION:Pesée \nDe 9 heures à 9 heures 45 : toutes les féminines\n-36\, -40\, -44\, -48\, -52\, -57\, -63\, +63 \nDe 12 heurs 15 à 13 heures : -34\, -38\, -42\, -46\nDe 14 heures 15 à 15 heures : -50\, -55\, -60\, -66\, -73\, +73
URL:https://olympiquejudovarois.com/calendrier/1er-tournoi-minimes-de-la-crau/
LOCATION:Gymnase de l’Estagnol\, Chemin du Vieux Hyères\, La Crau\, 83260
CATEGORIES:Tournois
END:VEVENT
BEGIN:VEVENT
DTSTART;TZID=Europe/Paris:20160110T090000
DTEND;TZID=Europe/Paris:20160110T190000
DTSTAMP:20260422T123547
CREATED:20160102T150855Z
LAST-MODIFIED:20160105T195532Z
UID:4834-1452416400-1452452400@olympiquejudovarois.com
SUMMARY:Circuit Loisirs Minimes - Apt
DESCRIPTION:Pesée : 30 minutes: \n9 heures Masculins jusqu’à – 42 kg\n11 heures Masculins de 42kg à -50 kg\n13 heures Masculins + 50 kg\n14 heures 30 Toutes les féminines
URL:https://olympiquejudovarois.com/calendrier/circuit-loisirs-minimes-apt/
LOCATION:Gymnase Michaël Guigou\, Gymnase Michaël Guigou - Boulevard Maréchal Joffre\, APT\, 84400
CATEGORIES:Compétitions
END:VEVENT
END:VCALENDAR