BEGIN:VCALENDAR
VERSION:2.0
PRODID:-//OLYMPIQUE JUDO VAROIS - ECPv6.9.1//NONSGML v1.0//EN
CALSCALE:GREGORIAN
METHOD:PUBLISH
X-ORIGINAL-URL:https://olympiquejudovarois.com
X-WR-CALDESC:Évènements pour OLYMPIQUE JUDO VAROIS
REFRESH-INTERVAL;VALUE=DURATION:PT1H
X-Robots-Tag:noindex
X-PUBLISHED-TTL:PT1H
BEGIN:VTIMEZONE
TZID:Europe/Paris
BEGIN:DAYLIGHT
TZOFFSETFROM:+0100
TZOFFSETTO:+0200
TZNAME:CEST
DTSTART:20160327T010000
END:DAYLIGHT
BEGIN:STANDARD
TZOFFSETFROM:+0200
TZOFFSETTO:+0100
TZNAME:CET
DTSTART:20161030T010000
END:STANDARD
END:VTIMEZONE
BEGIN:VEVENT
DTSTART;TZID=Europe/Paris:20160330T073000
DTEND;TZID=Europe/Paris:20160330T170000
DTSTAMP:20260422T195127
CREATED:20160223T160645Z
LAST-MODIFIED:20160223T160819Z
UID:5231-1459323000-1459357200@olympiquejudovarois.com
SUMMARY:Championnat de France Universitaire 1ère division
DESCRIPTION:Pesée de 7h30 à 8h30 \nCarte étudiant + licence FFSU
URL:https://olympiquejudovarois.com/calendrier/championnat-de-france-universitaire-1ere-division/
LOCATION:Centre sportif de Geispolsheim\, Route departementale 84\, geispolsheim\, 67118\, France
CATEGORIES:Evènements
END:VEVENT
BEGIN:VEVENT
DTSTART;TZID=Europe/Paris:20160326T130000
DTEND;TZID=Europe/Paris:20160326T190000
DTSTAMP:20260422T195127
CREATED:20160223T155908Z
LAST-MODIFIED:20160223T155908Z
UID:5229-1458997200-1459018800@olympiquejudovarois.com
SUMMARY:Championnat PACA 1ere division Seniors
DESCRIPTION:Pesée pour TOUS de 13 heures à 13 heures 30
URL:https://olympiquejudovarois.com/calendrier/championnat-paca-1ere-division-seniors/
LOCATION:Gymnase de l’Estagnol\, Chemin du Vieux Hyères\, La Crau\, 83260
CATEGORIES:Evènements
END:VEVENT
BEGIN:VEVENT
DTSTART;TZID=Europe/Paris:20160213T070000
DTEND;TZID=Europe/Paris:20160213T190000
DTSTAMP:20260422T195127
CREATED:20160120T090108Z
LAST-MODIFIED:20160120T105210Z
UID:5060-1455346800-1455390000@olympiquejudovarois.com
SUMMARY:Tournoi National Juniors Epinay-Sous-Senart
DESCRIPTION:Pesée Garçons et Filles de 7 heures à 8 heures \n-55\, -60\, -66\, -57\, -63\, -70\, -78\, +78 \nPesée Garçons et Filles de 10 heures à 11 heures \n-73\, -81\, -90\, -100\, +100\, -44\, -48\, -52
URL:https://olympiquejudovarois.com/calendrier/5060/
LOCATION:Complexe sportif\, rue Ile de France\, Epinaty-sous-sénart\, 91860
CATEGORIES:Evènements
END:VEVENT
BEGIN:VEVENT
DTSTART;TZID=Europe/Paris:20160130T080000
DTEND;TZID=Europe/Paris:20160130T190000
DTSTAMP:20260422T195127
CREATED:20160116T105541Z
LAST-MODIFIED:20160116T105541Z
UID:4989-1454140800-1454180400@olympiquejudovarois.com
SUMMARY:BELGIAN LADIES OPEN ARLON 2016
DESCRIPTION:Vendredi 29 janvier de 15h30 à 21h : accueil\, inscriptions et pesée – Carte identité obligatoire – Judogi blanc et bleu obligatoires \nSamedi 30 janvier : 9 heures 30 début de la compétition
URL:https://olympiquejudovarois.com/calendrier/belgian-ladies-open-arlon-2016/
LOCATION:Centre sportif de l’hydrion\, 108 rue de l'hydrion\, Arlon\, 6700\, Belgique
CATEGORIES:Evènements
END:VEVENT
BEGIN:VEVENT
DTSTART;TZID=Europe/Paris:20160109T133000
DTEND;TZID=Europe/Paris:20160109T190000
DTSTAMP:20260422T195127
CREATED:20160102T145808Z
LAST-MODIFIED:20160102T154053Z
UID:4831-1452346200-1452366000@olympiquejudovarois.com
SUMMARY:Circuit Loisirs 3ème div. Juniors-Seniors
DESCRIPTION:Pesée : 30 minutes \n13h30 : -60\, -66\, -73\, -81 \n15 heures : -90\, -100\, +100 et toutes les féminines
URL:https://olympiquejudovarois.com/calendrier/circuit-loisirs-3eme-div-juniors-seniors/
LOCATION:Gymnase Michaël Guigou\, Gymnase Michaël Guigou - Boulevard Maréchal Joffre\, APT\, 84400
CATEGORIES:Compétitions
END:VEVENT
END:VCALENDAR