BEGIN:VCALENDAR
VERSION:2.0
PRODID:-//OLYMPIQUE JUDO VAROIS - ECPv6.9.1//NONSGML v1.0//EN
CALSCALE:GREGORIAN
METHOD:PUBLISH
X-ORIGINAL-URL:https://olympiquejudovarois.com
X-WR-CALDESC:Évènements pour OLYMPIQUE JUDO VAROIS
REFRESH-INTERVAL;VALUE=DURATION:PT1H
X-Robots-Tag:noindex
X-PUBLISHED-TTL:PT1H
BEGIN:VTIMEZONE
TZID:Europe/Paris
BEGIN:DAYLIGHT
TZOFFSETFROM:+0100
TZOFFSETTO:+0200
TZNAME:CEST
DTSTART:20160327T010000
END:DAYLIGHT
BEGIN:STANDARD
TZOFFSETFROM:+0200
TZOFFSETTO:+0100
TZNAME:CET
DTSTART:20161030T010000
END:STANDARD
BEGIN:DAYLIGHT
TZOFFSETFROM:+0100
TZOFFSETTO:+0200
TZNAME:CEST
DTSTART:20170326T010000
END:DAYLIGHT
BEGIN:STANDARD
TZOFFSETFROM:+0200
TZOFFSETTO:+0100
TZNAME:CET
DTSTART:20171029T010000
END:STANDARD
BEGIN:DAYLIGHT
TZOFFSETFROM:+0100
TZOFFSETTO:+0200
TZNAME:CEST
DTSTART:20180325T010000
END:DAYLIGHT
BEGIN:STANDARD
TZOFFSETFROM:+0200
TZOFFSETTO:+0100
TZNAME:CET
DTSTART:20181028T010000
END:STANDARD
END:VTIMEZONE
BEGIN:VEVENT
DTSTART;TZID=Europe/Paris:20180527T080000
DTEND;TZID=Europe/Paris:20180527T170000
DTSTAMP:20260422T131159
CREATED:20180522T125955Z
LAST-MODIFIED:20180522T125955Z
UID:6592-1527408000-1527440400@olympiquejudovarois.com
SUMMARY:Tournoi de Sisteron - Minimes
DESCRIPTION:Pesée garçons : 9h00-9h30 \nPesée filles : 10h00-10h30
URL:https://olympiquejudovarois.com/calendrier/tournoi-de-sisteron-minimes/
LOCATION:Gymane Base de Loisirs des marres\, Sisteron\, 04200\, France
CATEGORIES:Compétitions
END:VEVENT
BEGIN:VEVENT
DTSTART;TZID=Europe/Paris:20180519T080000
DTEND;TZID=Europe/Paris:20180519T170000
DTSTAMP:20260422T131159
CREATED:20180503T095502Z
LAST-MODIFIED:20180503T102118Z
UID:6581-1526716800-1526749200@olympiquejudovarois.com
SUMMARY:Coupe de France Minimes par équipe par département
DESCRIPTION:
URL:https://olympiquejudovarois.com/calendrier/coupe-de-france-minimes-par-equipe-par-departement/
LOCATION:Grand Dôme\, 3 rue du grand dôme\, Villebon sur Yvette\, 91140
END:VEVENT
BEGIN:VEVENT
DTSTART;TZID=Europe/Paris:20180506T080000
DTEND;TZID=Europe/Paris:20180506T170000
DTSTAMP:20260422T131159
CREATED:20180503T094355Z
LAST-MODIFIED:20180503T094355Z
UID:6575-1525593600-1525626000@olympiquejudovarois.com
SUMMARY:Open de Dijon Minimes
DESCRIPTION:Pesée Lorna et Manon\n12h30 à 13h00.\n\n\nPesée Adrien et Robin\n13h00 à 13h30
URL:https://olympiquejudovarois.com/calendrier/open-de-dijon-minimes/
LOCATION:Palais des Sports de Dijon\, 17 rue Léon Mauris\, Dijon\, 21000
CATEGORIES:Tournois
END:VEVENT
BEGIN:VEVENT
DTSTART;TZID=Europe/Paris:20180422T080000
DTEND;TZID=Europe/Paris:20180422T170000
DTSTAMP:20260422T131159
CREATED:20180419T181246Z
LAST-MODIFIED:20180419T181246Z
UID:6570-1524384000-1524416400@olympiquejudovarois.com
SUMMARY:Coupe de Printemps Minimes
DESCRIPTION:Pesée \nFéminines : 8 heures 30 à 9 heures \nMasculins  -42 kgs :  10 heures 30 à 11 heures \nMasculins -46\, -50 kgs  :  13 heures 30 à 14 heures \nMasculins -55\, -60\, -66\, -73\, +73kgs : 15 heures  15 heures 30
URL:https://olympiquejudovarois.com/calendrier/coupe-de-printemps-minimes/
LOCATION:Gymnase de l’Esterel\, 900 Boulevard de l'Aspé\, Saint Raphaël\, 83700\, France
CATEGORIES:Compétitions
END:VEVENT
BEGIN:VEVENT
DTSTART;TZID=Europe/Paris:20180324T080000
DTEND;TZID=Europe/Paris:20180324T170000
DTSTAMP:20260422T131159
CREATED:20180321T092652Z
LAST-MODIFIED:20180321T092652Z
UID:6556-1521878400-1521910800@olympiquejudovarois.com
SUMMARY:Tournoi Minimes Excellence St Cyprien
DESCRIPTION:Pesée \nVendredi de 17h à 20h
URL:https://olympiquejudovarois.com/calendrier/tournoi-minimes-excellence-st-cyprien/
LOCATION:Grand stade les Capellans\, Rue Verdi\, Saint-Cyprien\, 66750
CATEGORIES:Compétitions
END:VEVENT
BEGIN:VEVENT
DTSTART;TZID=Europe/Paris:20180317T090000
DTEND;TZID=Europe/Paris:20180317T170000
DTSTAMP:20260422T131159
CREATED:20180228T095442Z
LAST-MODIFIED:20180228T095442Z
UID:6533-1521277200-1521306000@olympiquejudovarois.com
SUMMARY:Circuit Minimes - Mandelieu
DESCRIPTION:Pesée \nmasculins -42kg: De 9 heures à 9 heures 30 \nmasculins -50kg: De 11 heures à 11 heures 30 \nmasculins +50kg: De 13 heures à 13 heures 30 \nféminines: De 14 heures 30 à 15 heures
URL:https://olympiquejudovarois.com/calendrier/circuit-minimes-mandelieu/
LOCATION:Gymnase de l’Olympie\, Avenue des anciens combattants\, Mandelieu\, 06210\, France
CATEGORIES:Compétitions
END:VEVENT
BEGIN:VEVENT
DTSTART;TZID=Europe/Paris:20180210T080000
DTEND;TZID=Europe/Paris:20180210T170000
DTSTAMP:20260422T131159
CREATED:20180203T093536Z
LAST-MODIFIED:20180203T093559Z
UID:6519-1518249600-1518282000@olympiquejudovarois.com
SUMMARY:Open Bresse Minimes
DESCRIPTION:Pesée \n– Garçons  : 9 heures – 10 heures \n– Filles : 13 heures – 14 heures
URL:https://olympiquejudovarois.com/calendrier/open-bresse-minimes/
LOCATION:Gymnase municipal\, Allée des sports\, Saint Denis les bourg\, 01100
CATEGORIES:Tournois
END:VEVENT
BEGIN:VEVENT
DTSTART;TZID=Europe/Paris:20180128T090000
DTEND;TZID=Europe/Paris:20180128T170000
DTSTAMP:20260422T131159
CREATED:20180109T101213Z
LAST-MODIFIED:20180109T101213Z
UID:6428-1517130000-1517158800@olympiquejudovarois.com
SUMMARY:Coupe Départementale Minimes
DESCRIPTION:Pesée : 30 minutes \nToutes les féminines à 9 heures \nMasculins :  -34 -38 -42 -46 à 10 heures \nMasculins -50 -55 -60 -66 -73 +73 12 heures
URL:https://olympiquejudovarois.com/calendrier/coupe-departementale-minimes-2/
LOCATION:Gymnase Pierre Gaudin\, Avenue Pierre de Coubertin\, Le Luc en Provence\, 83340\, France
CATEGORIES:Compétitions
END:VEVENT
BEGIN:VEVENT
DTSTART;TZID=Europe/Paris:20180114T090000
DTEND;TZID=Europe/Paris:20180114T170000
DTSTAMP:20260422T131159
CREATED:20180110T092555Z
LAST-MODIFIED:20180110T092555Z
UID:6452-1515920400-1515949200@olympiquejudovarois.com
SUMMARY:Circuit Minimes Apt
DESCRIPTION:Pesée : 30 minutes \n\nMasculins  -42 kg : 9 heures \nMasculins  – 50 kg : 11 heures \nMasculins  +50kg : 13 heures \nToutes les féminines : 14 heures 30
URL:https://olympiquejudovarois.com/calendrier/circuit-minimes-apt/
LOCATION:Gymnase Guigou\, Boulevard Maréchal Joffre\, Apt\, 84400
END:VEVENT
BEGIN:VEVENT
DTSTART;TZID=Europe/Paris:20171223T080000
DTEND;TZID=Europe/Paris:20171223T170000
DTSTAMP:20260422T131159
CREATED:20171204T105055Z
LAST-MODIFIED:20171221T091341Z
UID:6407-1514016000-1514048400@olympiquejudovarois.com
SUMMARY:Tournoi National Minimes Excellence
DESCRIPTION:Pesée\nDe 8 h 30 à 9 heures : Toutes les filles\n\nDe 10 heures à 10 h 30 : Minimes garçons -34kg et-38kg\n\nDe 13 heures à 13 h 30: Minimes garçons -42kg et -46kg.\n\nDe 14 h 30 à 15 heures : Minimes garçons-50kg\, -55kg\, -60kg\, -66kg\, -73kg\, +73kg.
URL:https://olympiquejudovarois.com/calendrier/tournoi-national-minimes-excellence/
LOCATION:Maison du Judo\, Chemin Cassaing\, Toulouse\, 31500\, France
END:VEVENT
BEGIN:VEVENT
DTSTART;TZID=Europe/Paris:20171119T090000
DTEND;TZID=Europe/Paris:20171119T170000
DTSTAMP:20260422T131159
CREATED:20171101T141707Z
LAST-MODIFIED:20171101T141707Z
UID:6377-1511082000-1511110800@olympiquejudovarois.com
SUMMARY:Circuit régional Minimes
DESCRIPTION:Pesée \nDe 9 heures à 9 heures 30: -42 kg \nDe 11 heures à 11 heures 30: -50 kg \nDe 13 heures à 13 heures 30: +50 kg \nDe 14 heures 30 à 15 heures : toutes les féminines
URL:https://olympiquejudovarois.com/calendrier/circuit-regional-minimes/
LOCATION:Gymnase La Martine\, 51 Chemin de la Martine\, Marseille\, 13015
END:VEVENT
BEGIN:VEVENT
DTSTART;TZID=Europe/Paris:20171105T080000
DTEND;TZID=Europe/Paris:20171105T183000
DTSTAMP:20260422T131159
CREATED:20171101T125508Z
LAST-MODIFIED:20171101T125552Z
UID:6360-1509868800-1509906600@olympiquejudovarois.com
SUMMARY:Tournoi Drôme Ardèche Minimes
DESCRIPTION:PESEE \nDe 9h00 à 9h30 : toutes les féminines et des masculins de -34kg à -38 kg\n10h15 : début des combats \nDe 10h30 à 11h00 : Minimes garçons plus de 38 kg :\no 11:45 : début des combats : \nPAS DE TOLERANCE DE POIDS
URL:https://olympiquejudovarois.com/calendrier/tournoi-drome-ardeche-minimes/
LOCATION:Halle des sports\, 9 rue Jean Macé\, Portes Les Valence\, 26800
CATEGORIES:Tournois
END:VEVENT
BEGIN:VEVENT
DTSTART;TZID=Europe/Paris:20171008T090000
DTEND;TZID=Europe/Paris:20171008T190000
DTSTAMP:20260422T131159
CREATED:20170912T095140Z
LAST-MODIFIED:20170912T095140Z
UID:6312-1507453200-1507489200@olympiquejudovarois.com
SUMMARY:Coupe Régionale Minimes PACA
DESCRIPTION:Pesée \nDe 9h à 9h30 : -55kg \nDe 12h30 à 13h : +55kg \nDe 14h à 14h30 : Toutes les féminines
URL:https://olympiquejudovarois.com/calendrier/coupe-regionale-minimes-paca-2/
LOCATION:Gymnase de l’Estagnol\, Chemin du Vieux Hyères\, La Crau\, 83260
CATEGORIES:Compétitions
END:VEVENT
BEGIN:VEVENT
DTSTART;TZID=Europe/Paris:20170528T090000
DTEND;TZID=Europe/Paris:20170528T170000
DTSTAMP:20260422T131159
CREATED:20170427T162507Z
LAST-MODIFIED:20170427T162507Z
UID:6022-1495962000-1495990800@olympiquejudovarois.com
SUMMARY:Circuit Minimes
DESCRIPTION:Pesée\n9h-9h30: Adrien et Maksim -42\n10h30-11h: Bastien- Maxime – Nicolas -50 \n14h30-15h: Manon – Lorna
URL:https://olympiquejudovarois.com/calendrier/circuit-minimes-3/
LOCATION:Gymnase Maurice Piot\, 344 Avenue Rhin Danube\, Vitrolles\, 13127\, France
CATEGORIES:Compétitions
END:VEVENT
BEGIN:VEVENT
DTSTART;TZID=Europe/Paris:20170422T090000
DTEND;TZID=Europe/Paris:20170422T170000
DTSTAMP:20260422T131159
CREATED:20170227T165513Z
LAST-MODIFIED:20170410T154939Z
UID:5944-1492851600-1492880400@olympiquejudovarois.com
SUMMARY:Département Minimes
DESCRIPTION:Pesée \nDe 9 heures à 9 heures 30 : Lorna et Manon\n \nDe 10 heures à 10 heures 30 : Adrien – Bastien – Maksim – Maxime \nDe 12 heures à 12 heures 30 : Nicolas
URL:https://olympiquejudovarois.com/calendrier/ligue-minimes/
LOCATION:Gymnase Pierre Gaudin\, Avenue Pierre de Coubertin\, Le Luc en Provence\, 83340\, France
CATEGORIES:Compétitions
END:VEVENT
BEGIN:VEVENT
DTSTART;TZID=Europe/Paris:20170409T080000
DTEND;TZID=Europe/Paris:20170409T170000
DTSTAMP:20260422T131159
CREATED:20170320T081820Z
LAST-MODIFIED:20170324T103909Z
UID:5978-1491724800-1491757200@olympiquejudovarois.com
SUMMARY:Circuit de printemps Minimes
DESCRIPTION:De 8h30 à 9h00:  Manon – Lorna \nDe 10h30 à 11h : Maksim – Adrien \nDe 13h30 à 14 heures : Bastien – Maxime – Nicolas \n 
URL:https://olympiquejudovarois.com/calendrier/circuit-de-printemps-minimes/
LOCATION:Salle omnisport de l’Esterel\, Boulevard de l'Aspé\, Saint-Raphaël\, 83
CATEGORIES:Compétitions
END:VEVENT
BEGIN:VEVENT
DTSTART;TZID=Europe/Paris:20170115T090000
DTEND;TZID=Europe/Paris:20170115T170000
DTSTAMP:20260422T131159
CREATED:20170103T153231Z
LAST-MODIFIED:20170103T153536Z
UID:5789-1484470800-1484499600@olympiquejudovarois.com
SUMMARY:Circuit Minimes
DESCRIPTION:Pesée: \n9h00 – 9h30: Masculins -42 kgs \n11h00 – 11h30: Masculins -50 kgs \n13h00 – 13h30: Masculins +50 kgs \n14h00 – 14h30: Toutes les Féminines
URL:https://olympiquejudovarois.com/calendrier/circuit-minimes/
LOCATION:Gymnase Michaël Guigou\, Gymnase Michaël Guigou - Boulevard Maréchal Joffre\, APT\, 84400
CATEGORIES:Compétitions
END:VEVENT
BEGIN:VEVENT
DTSTART;TZID=Europe/Paris:20160319T153000
DTEND;TZID=Europe/Paris:20160319T200000
DTSTAMP:20260422T131159
CREATED:20160309T100119Z
LAST-MODIFIED:20160309T100119Z
UID:5337-1458401400-1458417600@olympiquejudovarois.com
SUMMARY:Challenge Prince Albert de Monaco - Benjamins
DESCRIPTION:Les benjamins sont convoqués à 15 heures 30
URL:https://olympiquejudovarois.com/calendrier/challenge-prince-albert-de-monaco-benjamins/
LOCATION:Stade Louis II\, 7 Avenue des Castellans\, Monaco\, 98000\, Monaco
END:VEVENT
BEGIN:VEVENT
DTSTART;TZID=Europe/Paris:20160227T083000
DTEND;TZID=Europe/Paris:20160228T170000
DTSTAMP:20260422T131159
CREATED:20160203T135524Z
LAST-MODIFIED:20160203T140518Z
UID:5145-1456561800-1456678800@olympiquejudovarois.com
SUMMARY:JUDO TURIN CUP 2016
DESCRIPTION:Pesée le samedi 27 février \nCadets :  de 8h30 à 9h00 \nCadettes :  de 11h30 à 12h00 \nMinimes filles :  de 12h30 à 13h00 \nMinimes garçons : de 13h30 à 14h00 \n  \nPesée le dimanche 28 février \nAdrien\, Charlotte et Manon de 8h30 à 9h00 \nJustine\, Dylan et Robin de 9h00 à 9h30
URL:https://olympiquejudovarois.com/calendrier/judo-turin-cup-2016/
LOCATION:Palazzetto le Cupole\, Via Artom 111\, Turin\, Italie
CATEGORIES:Tournois
END:VEVENT
END:VCALENDAR