BEGIN:VCALENDAR
VERSION:2.0
PRODID:-//OLYMPIQUE JUDO VAROIS - ECPv6.9.1//NONSGML v1.0//EN
CALSCALE:GREGORIAN
METHOD:PUBLISH
X-ORIGINAL-URL:https://olympiquejudovarois.com
X-WR-CALDESC:Évènements pour OLYMPIQUE JUDO VAROIS
REFRESH-INTERVAL;VALUE=DURATION:PT1H
X-Robots-Tag:noindex
X-PUBLISHED-TTL:PT1H
BEGIN:VTIMEZONE
TZID:Europe/Paris
BEGIN:DAYLIGHT
TZOFFSETFROM:+0100
TZOFFSETTO:+0200
TZNAME:CEST
DTSTART:20160327T010000
END:DAYLIGHT
BEGIN:STANDARD
TZOFFSETFROM:+0200
TZOFFSETTO:+0100
TZNAME:CET
DTSTART:20161030T010000
END:STANDARD
BEGIN:DAYLIGHT
TZOFFSETFROM:+0100
TZOFFSETTO:+0200
TZNAME:CEST
DTSTART:20170326T010000
END:DAYLIGHT
BEGIN:STANDARD
TZOFFSETFROM:+0200
TZOFFSETTO:+0100
TZNAME:CET
DTSTART:20171029T010000
END:STANDARD
BEGIN:DAYLIGHT
TZOFFSETFROM:+0100
TZOFFSETTO:+0200
TZNAME:CEST
DTSTART:20180325T010000
END:DAYLIGHT
BEGIN:STANDARD
TZOFFSETFROM:+0200
TZOFFSETTO:+0100
TZNAME:CET
DTSTART:20181028T010000
END:STANDARD
END:VTIMEZONE
BEGIN:VEVENT
DTSTART;TZID=Europe/Paris:20181021T080000
DTEND;TZID=Europe/Paris:20181021T170000
DTSTAMP:20260422T134337
CREATED:20181014T152857Z
LAST-MODIFIED:20181014T152857Z
UID:6735-1540108800-1540141200@olympiquejudovarois.com
SUMMARY:Tournoi de Fontaine
DESCRIPTION:Pesée Emeline : De 9 heures à 10 heures \nPesée garçons : De 11 heures à 11 heures 30 \n1 kg de tolérance
URL:https://olympiquejudovarois.com/calendrier/tournoi-de-fontaine/
LOCATION:Gymnase Aristide Berges\, Allée des Balmes\, Seysinnet\, 38170
CATEGORIES:Compétitions
END:VEVENT
BEGIN:VEVENT
DTSTART;TZID=Europe/Paris:20181014T080000
DTEND;TZID=Europe/Paris:20181014T170000
DTSTAMP:20260422T134337
CREATED:20180920T093923Z
LAST-MODIFIED:20180920T093923Z
UID:6719-1539504000-1539536400@olympiquejudovarois.com
SUMMARY:Championnat de France Seniors 2eme division
DESCRIPTION:Pesée de 7h à 8h
URL:https://olympiquejudovarois.com/calendrier/championnat-de-france-seniors-2eme-division-2/
LOCATION:Grand Dôme\, 3 rue du grand dôme\, Villebon sur Yvette\, 91140
CATEGORIES:Compétitions
END:VEVENT
BEGIN:VEVENT
DTSTART;TZID=Europe/Paris:20180930T080000
DTEND;TZID=Europe/Paris:20180930T170000
DTSTAMP:20260422T134337
CREATED:20180920T084427Z
LAST-MODIFIED:20180920T084427Z
UID:6707-1538294400-1538326800@olympiquejudovarois.com
SUMMARY:Tournoi Juniors - Seniors
DESCRIPTION:Emeline de 8h à 8h30 \nDorian de 11h30 a 12h
URL:https://olympiquejudovarois.com/calendrier/tournoi-juniors-seniors/
LOCATION:DOJO GUY THOMAS COMPLEXE SPORTIF DU POLYGONE\, AVENUE TORRELAVEGA\, Rochefort\, 17300\, France
END:VEVENT
BEGIN:VEVENT
DTSTART;TZID=Europe/Paris:20180519T090000
DTEND;TZID=Europe/Paris:20180519T170000
DTSTAMP:20260422T134337
CREATED:20180503T155634Z
LAST-MODIFIED:20180503T155634Z
UID:6586-1526720400-1526749200@olympiquejudovarois.com
SUMMARY:Circuit 3eme Division Seniors
DESCRIPTION:Pesée \nDorian : 9 heures 30 à 10 heures \nEmeline : 11 heures à 11 heures 30
URL:https://olympiquejudovarois.com/calendrier/circuit-3eme-division-seniors-2/
LOCATION:Gymnase plaine sportive\, CHEMIN DE LUCETTE\, SORGUES\, 84700
CATEGORIES:Compétitions
END:VEVENT
BEGIN:VEVENT
DTSTART;TZID=Europe/Paris:20180512T080000
DTEND;TZID=Europe/Paris:20180513T170000
DTSTAMP:20260422T134337
CREATED:20180503T095200Z
LAST-MODIFIED:20180503T154403Z
UID:6578-1526112000-1526230800@olympiquejudovarois.com
SUMMARY:Championnat de France Juniors
DESCRIPTION:Pesée le 11 mai de 17 heures à 20 heures 30\nSamedi 12 mai 2018\n\nCatégories  : Féminines : -44 kg\, -48 kg\, -52 kg\, -57 kg / Masculins : -55 kg\, -60 kg\, -66 kg\, -73 kg\nDébut de la compétition : 9h00\nFin prévisionnelle : 17h00\n\n\n\n\nPesée le 12 mai de 18 heures à 22 heures 30\nDimanche 13 mai 2018 \n\nCatégories : Féminines -63 kg\, -70 kg\, -78 kg\, +78 kg\, / Masculins : -81 kg\, -90 kg\, -100 kg\, +100 kg\nDébut de la compétition : 9h00
URL:https://olympiquejudovarois.com/calendrier/championnat-de-france-juniors-3/
LOCATION:Grand Dôme\, 3 rue du grand dôme\, Villebon sur Yvette\, 91140
CATEGORIES:Compétitions
END:VEVENT
BEGIN:VEVENT
DTSTART;TZID=Europe/Paris:20180421T090000
DTEND;TZID=Europe/Paris:20180421T170000
DTSTAMP:20260422T134337
CREATED:20180408T142356Z
LAST-MODIFIED:20180408T142356Z
UID:6562-1524301200-1524330000@olympiquejudovarois.com
SUMMARY:Demi Finale France Seniors
DESCRIPTION:Pesée Masculin \nDe 9 heures 30 à 10 heures \nPesée Féminine \nDe 11 heures 30 à 12 heures
URL:https://olympiquejudovarois.com/calendrier/demi-finale-france-seniors-4/
LOCATION:Gymnase de l’Esterel\, 900 Boulevard de l'Aspé\, Saint Raphaël\, 83700\, France
CATEGORIES:Compétitions
END:VEVENT
BEGIN:VEVENT
DTSTART;TZID=Europe/Paris:20180317T090000
DTEND;TZID=Europe/Paris:20180317T170000
DTSTAMP:20260422T134337
CREATED:20180228T094943Z
LAST-MODIFIED:20180228T103856Z
UID:6531-1521277200-1521306000@olympiquejudovarois.com
SUMMARY:Demi Finale Juniors - Meze
DESCRIPTION:Pesée masculins \n9 heures à 9 heures 30 \nPesée féminines \n11 heures à 11 heures 30
URL:https://olympiquejudovarois.com/calendrier/demi-finale-juniors-2/
LOCATION:Salle Bernard Jeu\, Rue de la méditérranée \, Meze\, 34140
CATEGORIES:Compétitions
END:VEVENT
BEGIN:VEVENT
DTSTART;TZID=Europe/Paris:20171216T080000
DTEND;TZID=Europe/Paris:20171216T170000
DTSTAMP:20260422T134337
CREATED:20171204T102513Z
LAST-MODIFIED:20171204T102513Z
UID:6398-1513411200-1513443600@olympiquejudovarois.com
SUMMARY:Tournoi international d'Aix en Provence Juniors
DESCRIPTION:Pesée \n8h30 – 9h00 toutes les féminines (finales dans la foulée) \n10h30 – 11h00: -55kg\, – 60kg\, -66kg et -73kg (finales dans la foulée) \n13h30 – 14h00: -81kg\, -90kg\, -100kg et +100kg (finales dans la foulée)
URL:https://olympiquejudovarois.com/calendrier/tournoi-international-daix-provence-juniors-2/
LOCATION:Gymnase du Val de l’Arc\, 35 avenue des infirmeries\, aix en provence\, 13100\, France
CATEGORIES:Compétitions
END:VEVENT
BEGIN:VEVENT
DTSTART;TZID=Europe/Paris:20171207T100000
DTEND;TZID=Europe/Paris:20171207T170000
DTSTAMP:20260422T134337
CREATED:20171204T103049Z
LAST-MODIFIED:20171204T103049Z
UID:6401-1512640800-1512666000@olympiquejudovarois.com
SUMMARY:Championnat de Conférence Universitaire
DESCRIPTION:Pesée officieuse\n10h15 – 10h45\n\nPesée officielle\n10h45 – 11h15
URL:https://olympiquejudovarois.com/calendrier/championnat-de-conference-universitaire/
LOCATION:Dojo de Bougainville\, 6 boulevard de Sévigné\, Marseille\, 13015
END:VEVENT
BEGIN:VEVENT
DTSTART;TZID=Europe/Paris:20171125T090000
DTEND;TZID=Europe/Paris:20171125T153000
DTSTAMP:20260422T134337
CREATED:20171101T132346Z
LAST-MODIFIED:20171101T132346Z
UID:6370-1511600400-1511623800@olympiquejudovarois.com
SUMMARY:Championnat de France 2eme division
DESCRIPTION:Pesée de 7 heures à 8 heures
URL:https://olympiquejudovarois.com/calendrier/championnat-de-france-2eme-division/
LOCATION:Institut du Judo\, 21-23 Avenue de la Porte de chatillon\, Paris\, 75014
END:VEVENT
BEGIN:VEVENT
DTSTART;TZID=Europe/Paris:20171116T150000
DTEND;TZID=Europe/Paris:20171116T180000
DTSTAMP:20260422T134337
CREATED:20171101T142206Z
LAST-MODIFIED:20171101T142206Z
UID:6379-1510844400-1510855200@olympiquejudovarois.com
SUMMARY:Championnat d'Académie individuel Universitaire
DESCRIPTION:Pesée de 14 heures à 14 heures 30
URL:https://olympiquejudovarois.com/calendrier/championnat-dacademie-individuel-universitaire/
LOCATION:Dojo de Bougainville\, 6 boulevard de Sévigné\, Marseille\, 13015
END:VEVENT
BEGIN:VEVENT
DTSTART;TZID=Europe/Paris:20170930T140000
DTEND;TZID=Europe/Paris:20170930T180000
DTSTAMP:20260422T134337
CREATED:20170923T083354Z
LAST-MODIFIED:20170926T092147Z
UID:6336-1506780000-1506794400@olympiquejudovarois.com
SUMMARY:Championnat régional par équipe
DESCRIPTION:Pesée de 14h à 14h30\n \néquipe féminines OJV \nQuentin en renfort avec l’équipe de Nice \n  \n 
URL:https://olympiquejudovarois.com/calendrier/championnat-regional-equipe/
LOCATION:Gymnase Pierre Gaudin\, Avenue Pierre de Coubertin\, Le Luc en Provence\, 83340\, France
END:VEVENT
BEGIN:VEVENT
DTSTART;TZID=Europe/Paris:20170527T100000
DTEND;TZID=Europe/Paris:20170527T170000
DTSTAMP:20260422T134337
CREATED:20170427T163706Z
LAST-MODIFIED:20170427T163918Z
UID:6029-1495879200-1495904400@olympiquejudovarois.com
SUMMARY:Demi Finale France Seniors
DESCRIPTION:Pesée \nDe 10 heures à 10 heures 30 : Masculins \nDe 11 heures 30 à 12 heures : Féminines
URL:https://olympiquejudovarois.com/calendrier/demi-finale-france-seniors-3/
LOCATION:Gymnase Maurice Piot\, 344 Avenue Rhin Danube\, Vitrolles\, 13127\, France
CATEGORIES:Compétitions
END:VEVENT
BEGIN:VEVENT
DTSTART;TZID=Europe/Paris:20170513T080000
DTEND;TZID=Europe/Paris:20170514T170000
DTSTAMP:20260422T134337
CREATED:20170427T162919Z
LAST-MODIFIED:20170427T162919Z
UID:6025-1494662400-1494781200@olympiquejudovarois.com
SUMMARY:Championnat De France Juniors
DESCRIPTION:
URL:https://olympiquejudovarois.com/calendrier/championnat-de-france-juniors-2/
LOCATION:Institut du Judo\, 21-23 Avenue de la Porte de chatillon\, Paris\, 75014
CATEGORIES:Compétitions
END:VEVENT
BEGIN:VEVENT
DTSTART;TZID=Europe/Paris:20161217T080000
DTEND;TZID=Europe/Paris:20161217T170000
DTSTAMP:20260422T134337
CREATED:20161127T171233Z
LAST-MODIFIED:20161127T171233Z
UID:5757-1481961600-1481994000@olympiquejudovarois.com
SUMMARY:Championnat de France Seniors 2eme Division
DESCRIPTION:Pesée de 7 heures à 8 heures
URL:https://olympiquejudovarois.com/calendrier/championnat-de-france-seniors-2eme-division/
LOCATION:Institut du Judo\, 21-23 Avenue de la Porte de chatillon\, Paris\, 75014
END:VEVENT
BEGIN:VEVENT
DTSTART;TZID=Europe/Paris:20161210T080000
DTEND;TZID=Europe/Paris:20161210T190000
DTSTAMP:20260422T134337
CREATED:20161127T164800Z
LAST-MODIFIED:20161127T164800Z
UID:5753-1481356800-1481396400@olympiquejudovarois.com
SUMMARY:Tournoi International d'Aix en Provence - Juniors
DESCRIPTION:Pesée de 7 heures à 8 heures \n44 – 48 – 52 ET 55 – 60 \nPesée de 9 heures à 10 heures \n66 – 73 – 81 \nPesée de 11 heures 30 à 12 heures 30  \n57 – 60 – 70
URL:https://olympiquejudovarois.com/calendrier/tournoi-international-daix-provence-juniors/
LOCATION:Gymnase Louison bobet\, 2 impasse des Frères Pratesi\, Aix en Provence\, 13090\, France
CATEGORIES:Compétitions
END:VEVENT
BEGIN:VEVENT
DTSTART;TZID=Europe/Paris:20161203T120000
DTEND;TZID=Europe/Paris:20161203T190000
DTSTAMP:20260422T134337
CREATED:20161127T161024Z
LAST-MODIFIED:20161127T161319Z
UID:5749-1480766400-1480791600@olympiquejudovarois.com
SUMMARY:Tournoi Label Excellence Nimes - Juniors
DESCRIPTION:Pesée de 12 à 13 heures \nMasculins : 55 – 60 – 66 – 73 \nFéminines : 44 – 48 – 52 \n  \nPesée de 13 heures 30 à 14 heures 30 \nFéminines : 57 – 63 – 70 -78 +78 \n  \n 
URL:https://olympiquejudovarois.com/calendrier/tournoi-label-excellence-nimes-juniors/
LOCATION:Gymnase le Parnasse\, Avenue du Languedoc\, Nîmes\, 30000\, France
CATEGORIES:Compétitions
END:VEVENT
BEGIN:VEVENT
DTSTART;TZID=Europe/Paris:20161106T100000
DTEND;TZID=Europe/Paris:20161106T170000
DTSTAMP:20260422T134337
CREATED:20161025T085137Z
LAST-MODIFIED:20161025T115401Z
UID:5679-1478426400-1478451600@olympiquejudovarois.com
SUMMARY:Championnat PACA par équipes Juniors
DESCRIPTION:Pesée pour TOUT LE MONDE : 10 heures à 10 heures 30
URL:https://olympiquejudovarois.com/calendrier/championnat-paca-equipes-juniors/
LOCATION:Dojo Hervé Allari\, 640 route des Pugets\, Saint Laurent du Var\, 06700
END:VEVENT
BEGIN:VEVENT
DTSTART;TZID=Europe/Paris:20161022T073000
DTEND;TZID=Europe/Paris:20161022T190000
DTSTAMP:20260422T134337
CREATED:20160923T084117Z
LAST-MODIFIED:20160923T085747Z
UID:5653-1477121400-1477162800@olympiquejudovarois.com
SUMMARY:Tournoi Excellence Juniors Cormelles le Royal
DESCRIPTION:Pesée \nDe 7 heures 30 à 8 heures 30 :  -60kg -66kg -73kg\nDe 11 heures 30 à 12 heures 30 :  toutes les féminines\n\nATTENTION : vous devez vous présenter\, le vendredi entre 18 et 20 heures\, à la salle\, pour confirmer votre participation
URL:https://olympiquejudovarois.com/calendrier/tournoi-excellence-juniors-cormelles-royal/
LOCATION:Halle des Sports\, Rue de la pagnolee\, Cormelles le Royal\, 14123\, France Métropolitaine
END:VEVENT
BEGIN:VEVENT
DTSTART;TZID=Europe/Paris:20160529T100000
DTEND;TZID=Europe/Paris:20160529T180000
DTSTAMP:20260422T134337
CREATED:20160503T152538Z
LAST-MODIFIED:20160503T152538Z
UID:5575-1464516000-1464544800@olympiquejudovarois.com
SUMMARY:Demi Finale France Séniors
DESCRIPTION:Pesée de 10 heures à 10 heures 30 pour les masculins jusqu’à -90 kg \nPesée de 12 heures 30 à 13 heures pour les féminine
URL:https://olympiquejudovarois.com/calendrier/demi-finale-france-seniors-2/
LOCATION:Gymnase La Martine\, 51 Chemin de la Martine\, Marseille\, 13015
CATEGORIES:Evènements
END:VEVENT
BEGIN:VEVENT
DTSTART;TZID=Europe/Paris:20160514T070000
DTEND;TZID=Europe/Paris:20160515T170000
DTSTAMP:20260422T134337
CREATED:20160503T151114Z
LAST-MODIFIED:20160503T151114Z
UID:5572-1463209200-1463331600@olympiquejudovarois.com
SUMMARY:Championnat de France Juniors - Lyon
DESCRIPTION:Lisa exceptée\, pesée samedi 14 mai de 7 heures à 8 heures \nDimanche\, 15 mai\, Lisa pesée de 7 heures à 8 heures
URL:https://olympiquejudovarois.com/calendrier/championnat-de-france-juniors-lyon/
LOCATION:Palais des sports de Gerland\, 350 Avenue Jean Jaurès\, Lyon\, 69007
CATEGORIES:Evènements
END:VEVENT
BEGIN:VEVENT
DTSTART;TZID=Europe/Paris:20160430T090000
DTEND;TZID=Europe/Paris:20160430T180000
DTSTAMP:20260422T134337
CREATED:20160331T143936Z
LAST-MODIFIED:20160331T143936Z
UID:5539-1462006800-1462039200@olympiquejudovarois.com
SUMMARY:Tournoi International Ville de Marseille - Seniors
DESCRIPTION:Pesée officieuse ouverte durant 30 minutes avant chaque pesée \nPesée officielle \nDe 9 heures à 9 heures 30 : Dorian – Quentin – Lisa ; début des combats à 10 heures \nDe 12 heures à 12 heures 30 : Emeline – Maryne
URL:https://olympiquejudovarois.com/calendrier/tournoi-international-ville-de-marseille-seniors/
LOCATION:Salle la Martine\, 51 Chemin de la Martine\, Marseille\, 13015
CATEGORIES:Evènements
END:VEVENT
BEGIN:VEVENT
DTSTART;TZID=Europe/Paris:20160409T100000
DTEND;TZID=Europe/Paris:20160409T190000
DTSTAMP:20260422T134337
CREATED:20160331T104012Z
LAST-MODIFIED:20160331T104012Z
UID:5518-1460196000-1460228400@olympiquejudovarois.com
SUMMARY:Demi-Finale championnat de France Juniors
DESCRIPTION:Pesée Masculins – 90 kg : 10h00 – 10h30 \nPesée Féminines : 12h30 – 13h00
URL:https://olympiquejudovarois.com/calendrier/demi-finale-championnat-de-france-juniors/
LOCATION:Palais des sports\, 81 Rue Raymond Teisseire\, Marseille\, 13009\, France
CATEGORIES:Evènements
END:VEVENT
BEGIN:VEVENT
DTSTART;TZID=Europe/Paris:20160326T130000
DTEND;TZID=Europe/Paris:20160326T190000
DTSTAMP:20260422T134337
CREATED:20160223T155908Z
LAST-MODIFIED:20160223T155908Z
UID:5229-1458997200-1459018800@olympiquejudovarois.com
SUMMARY:Championnat PACA 1ere division Seniors
DESCRIPTION:Pesée pour TOUS de 13 heures à 13 heures 30
URL:https://olympiquejudovarois.com/calendrier/championnat-paca-1ere-division-seniors/
LOCATION:Gymnase de l’Estagnol\, Chemin du Vieux Hyères\, La Crau\, 83260
CATEGORIES:Evènements
END:VEVENT
BEGIN:VEVENT
DTSTART;TZID=Europe/Paris:20160213T070000
DTEND;TZID=Europe/Paris:20160213T190000
DTSTAMP:20260422T134337
CREATED:20160120T090108Z
LAST-MODIFIED:20160120T105210Z
UID:5060-1455346800-1455390000@olympiquejudovarois.com
SUMMARY:Tournoi National Juniors Epinay-Sous-Senart
DESCRIPTION:Pesée Garçons et Filles de 7 heures à 8 heures \n-55\, -60\, -66\, -57\, -63\, -70\, -78\, +78 \nPesée Garçons et Filles de 10 heures à 11 heures \n-73\, -81\, -90\, -100\, +100\, -44\, -48\, -52
URL:https://olympiquejudovarois.com/calendrier/5060/
LOCATION:Complexe sportif\, rue Ile de France\, Epinaty-sous-sénart\, 91860
CATEGORIES:Evènements
END:VEVENT
BEGIN:VEVENT
DTSTART;TZID=Europe/Paris:20160130T080000
DTEND;TZID=Europe/Paris:20160130T190000
DTSTAMP:20260422T134337
CREATED:20160116T105541Z
LAST-MODIFIED:20160116T105541Z
UID:4989-1454140800-1454180400@olympiquejudovarois.com
SUMMARY:BELGIAN LADIES OPEN ARLON 2016
DESCRIPTION:Vendredi 29 janvier de 15h30 à 21h : accueil\, inscriptions et pesée – Carte identité obligatoire – Judogi blanc et bleu obligatoires \nSamedi 30 janvier : 9 heures 30 début de la compétition
URL:https://olympiquejudovarois.com/calendrier/belgian-ladies-open-arlon-2016/
LOCATION:Centre sportif de l’hydrion\, 108 rue de l'hydrion\, Arlon\, 6700\, Belgique
CATEGORIES:Evènements
END:VEVENT
END:VCALENDAR