BEGIN:VCALENDAR
VERSION:2.0
PRODID:-//OLYMPIQUE JUDO VAROIS - ECPv6.9.1//NONSGML v1.0//EN
CALSCALE:GREGORIAN
METHOD:PUBLISH
X-WR-CALNAME:OLYMPIQUE JUDO VAROIS
X-ORIGINAL-URL:https://olympiquejudovarois.com
X-WR-CALDESC:Évènements pour OLYMPIQUE JUDO VAROIS
REFRESH-INTERVAL;VALUE=DURATION:PT1H
X-Robots-Tag:noindex
X-PUBLISHED-TTL:PT1H
BEGIN:VTIMEZONE
TZID:Europe/Paris
BEGIN:DAYLIGHT
TZOFFSETFROM:+0100
TZOFFSETTO:+0200
TZNAME:CEST
DTSTART:20220327T010000
END:DAYLIGHT
BEGIN:STANDARD
TZOFFSETFROM:+0200
TZOFFSETTO:+0100
TZNAME:CET
DTSTART:20221030T010000
END:STANDARD
BEGIN:DAYLIGHT
TZOFFSETFROM:+0100
TZOFFSETTO:+0200
TZNAME:CEST
DTSTART:20230326T010000
END:DAYLIGHT
BEGIN:STANDARD
TZOFFSETFROM:+0200
TZOFFSETTO:+0100
TZNAME:CET
DTSTART:20231029T010000
END:STANDARD
BEGIN:DAYLIGHT
TZOFFSETFROM:+0100
TZOFFSETTO:+0200
TZNAME:CEST
DTSTART:20240331T010000
END:DAYLIGHT
BEGIN:STANDARD
TZOFFSETFROM:+0200
TZOFFSETTO:+0100
TZNAME:CET
DTSTART:20241027T010000
END:STANDARD
END:VTIMEZONE
BEGIN:VEVENT
DTSTART;TZID=Europe/Paris:20240224T090000
DTEND;TZID=Europe/Paris:20240224T170000
DTSTAMP:20260422T054429
CREATED:20240205T174615Z
LAST-MODIFIED:20240205T174615Z
UID:7493-1708765200-1708794000@olympiquejudovarois.com
SUMMARY:3ME CIRCUIT REGIONAL CADETS 2EME DIVISION
DESCRIPTION:GROUPE MORPHOLOGIQUE DE 16 AVEC +/- 10% DE DIFF DE POIDS \nPOULES + TABLEAU SI POSSIBLE \nPESEES : 30 MINUTES \nHORAIRE DES PESEES : \nMASCULINS -60 KG  : 9H / 9H30 \nMASCULINS DE 60KG A 81 KG : 11H00 / 11H30 \nMASCULINS+ 81 KG ET FEMININES : 13H / 13H30
URL:https://olympiquejudovarois.com/calendrier/3me-circuit-regional-cadets-2eme-division-2/
LOCATION:salle olympie\, 126 boulevard des anciens combattants\, Mandelieu
CATEGORIES:Compétitions
END:VEVENT
BEGIN:VEVENT
DTSTART;TZID=Europe/Paris:20231118T080000
DTEND;TZID=Europe/Paris:20231118T170000
DTSTAMP:20260422T054429
CREATED:20231108T174424Z
LAST-MODIFIED:20231108T174811Z
UID:7473-1700294400-1700326800@olympiquejudovarois.com
SUMMARY:Coupe Départementale Cadets
DESCRIPTION:Pesée \nFéminines 9H00-9H30 \nMasculins -46 à -55 9H00-9H30 \nMasculins -60 à +90 10H30-11H00
URL:https://olympiquejudovarois.com/calendrier/coupe-departementale-cadets-3/
LOCATION:Gymnase de l’Estagnol\, Chemin du Vieux Hyères\, La Crau\, 83260
CATEGORIES:Compétitions
END:VEVENT
BEGIN:VEVENT
DTSTART;TZID=Europe/Paris:20231021T090000
DTEND;TZID=Europe/Paris:20231021T170000
DTSTAMP:20260422T054429
CREATED:20231005T071435Z
LAST-MODIFIED:20231005T071435Z
UID:7462-1697878800-1697907600@olympiquejudovarois.com
SUMMARY:Circuit Loisirs Cadets Gap
DESCRIPTION:Groupes morphologiques (10%) \nPoule+Tableau sans repêchage  \nMASCULINS -60 KG  : 9h00 – 9h30 \nMASCULINS DE 60KG A 81 KG : 11h30 – 12h00
URL:https://olympiquejudovarois.com/calendrier/circuit-loisirs-cadets-gap/
LOCATION:Gymnase Jean Chritophe Lafaille\, Avenue Commandant Dumont\, Gap\, 05000
CATEGORIES:Compétitions
END:VEVENT
BEGIN:VEVENT
DTSTART;TZID=Europe/Paris:20230409T140000
DTEND;TZID=Europe/Paris:20230409T170000
DTSTAMP:20260422T054429
CREATED:20230401T150945Z
LAST-MODIFIED:20230401T150945Z
UID:7407-1681048800-1681059600@olympiquejudovarois.com
SUMMARY:Circuit Régional Minimes
DESCRIPTION:13h30/14h :  Masculins -34 à -46\n14h30/15h :  Masculins -50 à +73
URL:https://olympiquejudovarois.com/calendrier/circuit-regional-minimes-2/
LOCATION:Gymnase de l’Esterel\, 900 Boulevard de l'Aspé\, Saint Raphaël\, 83700\, France
CATEGORIES:Compétitions
END:VEVENT
BEGIN:VEVENT
DTSTART;TZID=Europe/Paris:20221204T090000
DTEND;TZID=Europe/Paris:20221204T170000
DTSTAMP:20260422T054429
CREATED:20221127T085255Z
LAST-MODIFIED:20221201T192542Z
UID:7319-1670144400-1670173200@olympiquejudovarois.com
SUMMARY:Grand Prix Minimes 13
DESCRIPTION:Pesée \n9h-9h30: – 42 kg \n11h30-12h: -50kg \n14h-14h30: +50 kg \nPoules de 3 ou 4 combattants et tableaux sans repêchage. \nInscription 5€ par judoka \nPoules de 3 ou 4 combattants et tableaux sans repêchage.
URL:https://olympiquejudovarois.com/calendrier/grand-prix-minimes-13/
LOCATION:Istres\, Halles Polyvalentes\, Istres\, 13800\, France
END:VEVENT
BEGIN:VEVENT
DTSTART;TZID=Europe/Paris:20221119T080000
DTEND;TZID=Europe/Paris:20221119T170000
DTSTAMP:20260422T054429
CREATED:20221107T163551Z
LAST-MODIFIED:20221107T163551Z
UID:7303-1668844800-1668877200@olympiquejudovarois.com
SUMMARY:Coupe Départementale Minimes
DESCRIPTION:Pesée masculins -34/-38/-42/-46/-50 : 10H30-11H00 \n  \nPhase qualificative au niveau régional
URL:https://olympiquejudovarois.com/calendrier/coupe-departementale-minimes-4/
LOCATION:Gymnase de l’Estagnol\, Chemin du Vieux Hyères\, La Crau\, 83260
CATEGORIES:Compétitions
END:VEVENT
BEGIN:VEVENT
DTSTART;TZID=Europe/Paris:20221023T090000
DTEND;TZID=Europe/Paris:20221023T170000
DTSTAMP:20260422T054429
CREATED:20221008T160234Z
LAST-MODIFIED:20221008T160234Z
UID:7298-1666515600-1666544400@olympiquejudovarois.com
SUMMARY:Circuit Loisirs Minimes Paca Hautes Alpes
DESCRIPTION:GROUPES MORPHOLOGIQUES DE 16 AVEC +/- 10% DE DIFF DE POIDS \nPOULES + TABLEAU SI POSSIBLE \nPESEES :30 MINUTES \nHORAIRE DES PESEES: \nMASCULINS – 42 KG :9H \nMASCULINS – 50 KG :11H \nMASCULINS +50 KG : 13H \n 
URL:https://olympiquejudovarois.com/calendrier/circuit-loisirs-minimes-paca-hautes-alpes/
LOCATION:Gymnase Jean Chritophe Lafaille\, Avenue Commandant Dumont\, Gap\, 05000
CATEGORIES:Compétitions
END:VEVENT
END:VCALENDAR