BEGIN:VCALENDAR
VERSION:2.0
PRODID:-//OLYMPIQUE JUDO VAROIS - ECPv6.9.1//NONSGML v1.0//EN
CALSCALE:GREGORIAN
METHOD:PUBLISH
X-ORIGINAL-URL:https://olympiquejudovarois.com
X-WR-CALDESC:Évènements pour OLYMPIQUE JUDO VAROIS
REFRESH-INTERVAL;VALUE=DURATION:PT1H
X-Robots-Tag:noindex
X-PUBLISHED-TTL:PT1H
BEGIN:VTIMEZONE
TZID:Europe/Paris
BEGIN:DAYLIGHT
TZOFFSETFROM:+0100
TZOFFSETTO:+0200
TZNAME:CEST
DTSTART:20250330T010000
END:DAYLIGHT
BEGIN:STANDARD
TZOFFSETFROM:+0200
TZOFFSETTO:+0100
TZNAME:CET
DTSTART:20251026T010000
END:STANDARD
END:VTIMEZONE
BEGIN:VEVENT
DTSTART;TZID=Europe/Paris:20250315T080000
DTEND;TZID=Europe/Paris:20250315T170000
DTSTAMP:20260422T221358
CREATED:20250302T105010Z
LAST-MODIFIED:20250302T105010Z
UID:7644-1742025600-1742058000@olympiquejudovarois.com
SUMMARY:CIRCUIT REGIONAL CADETS 2EME DIV
DESCRIPTION:Compétition par regroupement morphologique de 16 combattants\, avec +/- 10% de différence de poids. \nPoules + tableaux sans repêchage \nPESEES: \nTous les masculins pesant moins de 60kg : 8H30 \nToutes les féminines : 14H30
URL:https://olympiquejudovarois.com/calendrier/circuit-regional-cadets-2eme-div/
LOCATION:salle olympie\, 126 boulevard des anciens combattants\, Mandelieu
CATEGORIES:Compétitions
END:VEVENT
END:VCALENDAR