BEGIN:VCALENDAR
VERSION:2.0
PRODID:-//OLYMPIQUE JUDO VAROIS - ECPv6.9.1//NONSGML v1.0//EN
CALSCALE:GREGORIAN
METHOD:PUBLISH
X-ORIGINAL-URL:https://olympiquejudovarois.com
X-WR-CALDESC:Évènements pour OLYMPIQUE JUDO VAROIS
REFRESH-INTERVAL;VALUE=DURATION:PT1H
X-Robots-Tag:noindex
X-PUBLISHED-TTL:PT1H
BEGIN:VTIMEZONE
TZID:Europe/Paris
BEGIN:DAYLIGHT
TZOFFSETFROM:+0100
TZOFFSETTO:+0200
TZNAME:CEST
DTSTART:20230326T010000
END:DAYLIGHT
BEGIN:STANDARD
TZOFFSETFROM:+0200
TZOFFSETTO:+0100
TZNAME:CET
DTSTART:20231029T010000
END:STANDARD
END:VTIMEZONE
BEGIN:VEVENT
DTSTART;TZID=Europe/Paris:20230409T140000
DTEND;TZID=Europe/Paris:20230409T170000
DTSTAMP:20260426T021312
CREATED:20230401T150945Z
LAST-MODIFIED:20230401T150945Z
UID:7407-1681048800-1681059600@olympiquejudovarois.com
SUMMARY:Circuit Régional Minimes
DESCRIPTION:13h30/14h :  Masculins -34 à -46\n14h30/15h :  Masculins -50 à +73
URL:https://olympiquejudovarois.com/calendrier/circuit-regional-minimes-2/
LOCATION:Gymnase de l’Esterel\, 900 Boulevard de l'Aspé\, Saint Raphaël\, 83700\, France
CATEGORIES:Compétitions
END:VEVENT
END:VCALENDAR