BEGIN:VCALENDAR
VERSION:2.0
PRODID:-//OLYMPIQUE JUDO VAROIS - ECPv6.9.1//NONSGML v1.0//EN
CALSCALE:GREGORIAN
METHOD:PUBLISH
X-WR-CALNAME:OLYMPIQUE JUDO VAROIS
X-ORIGINAL-URL:https://olympiquejudovarois.com
X-WR-CALDESC:Évènements pour OLYMPIQUE JUDO VAROIS
REFRESH-INTERVAL;VALUE=DURATION:PT1H
X-Robots-Tag:noindex
X-PUBLISHED-TTL:PT1H
BEGIN:VTIMEZONE
TZID:Europe/Paris
BEGIN:DAYLIGHT
TZOFFSETFROM:+0100
TZOFFSETTO:+0200
TZNAME:CEST
DTSTART:20240331T010000
END:DAYLIGHT
BEGIN:STANDARD
TZOFFSETFROM:+0200
TZOFFSETTO:+0100
TZNAME:CET
DTSTART:20241027T010000
END:STANDARD
END:VTIMEZONE
BEGIN:VEVENT
DTSTART;TZID=Europe/Paris:20240406T150000
DTEND;TZID=Europe/Paris:20240406T170000
DTSTAMP:20260421T115901
CREATED:20240323T105516Z
LAST-MODIFIED:20240323T105516Z
UID:7516-1712415600-1712422800@olympiquejudovarois.com
SUMMARY:Cadets Region 2eme division
DESCRIPTION:Pesée de 15h à 15h30
URL:https://olympiquejudovarois.com/calendrier/cadets-region-2eme-division/
LOCATION:Salle omnisport de l’Esterel\, Boulevard de l'Aspé\, Saint-Raphaël\, 83
CATEGORIES:Compétitions
END:VEVENT
BEGIN:VEVENT
DTSTART;TZID=Europe/Paris:20240407T080000
DTEND;TZID=Europe/Paris:20240407T170000
DTSTAMP:20260421T115901
CREATED:20240323T110226Z
LAST-MODIFIED:20240323T110226Z
UID:7520-1712476800-1712509200@olympiquejudovarois.com
SUMMARY:COUPE DE PRINTEMPS MINIMES
DESCRIPTION:Pesée de 12h30 à 13h00 : Lily et Lena \nPesée d 13h30 à 14h00 : Louis\, Angus\, Samuel\, \nPesée de 14h30 à 15h00 : Raphaël
URL:https://olympiquejudovarois.com/calendrier/coupe-de-printemps-minimes-3/
LOCATION:Salle omnisport de l’Esterel\, Boulevard de l'Aspé\, Saint-Raphaël\, 83
CATEGORIES:Compétitions
END:VEVENT
BEGIN:VEVENT
DTSTART;TZID=Europe/Paris:20240407T090000
DTEND;TZID=Europe/Paris:20240407T170000
DTSTAMP:20260421T115901
CREATED:20240323T105802Z
LAST-MODIFIED:20240323T105802Z
UID:7518-1712480400-1712509200@olympiquejudovarois.com
SUMMARY:COUPE REGIONALE ESPOIRS CADETS
DESCRIPTION:Pesée de 9h à 9h30
URL:https://olympiquejudovarois.com/calendrier/coupe-regionale-espoirs-cadets/
LOCATION:Salle omnisport de l’Esterel\, Boulevard de l'Aspé\, Saint-Raphaël\, 83
CATEGORIES:Compétitions
END:VEVENT
BEGIN:VEVENT
DTSTART;TZID=Europe/Paris:20240414T080000
DTEND;TZID=Europe/Paris:20240414T170000
DTSTAMP:20260421T115901
CREATED:20240323T110343Z
LAST-MODIFIED:20240407T082108Z
UID:7522-1713081600-1713114000@olympiquejudovarois.com
SUMMARY:CIRCUIT BENJAMINS
DESCRIPTION:Horaires pesées: \nFéminines : 9H00-9H30 \nMasculins -38kg : 10H30-11H00 \nMasculins +38kg : 12H30-13H00
URL:https://olympiquejudovarois.com/calendrier/circuit-benjamins-11/
LOCATION:Palais des sports de Toulon\, 420 Avenue Amiral Aube\, Toulon\, 83000
CATEGORIES:Compétitions
END:VEVENT
END:VCALENDAR